BEGIN:VCALENDAR
VERSION:2.0
PRODID:-//Sandia Gun Club - ECPv6.15.20//NONSGML v1.0//EN
CALSCALE:GREGORIAN
METHOD:PUBLISH
X-ORIGINAL-URL:https://sandiagunclub.com
X-WR-CALDESC:Events for Sandia Gun Club
REFRESH-INTERVAL;VALUE=DURATION:PT1H
X-Robots-Tag:noindex
X-PUBLISHED-TTL:PT1H
BEGIN:VTIMEZONE
TZID:America/Denver
BEGIN:DAYLIGHT
TZOFFSETFROM:-0700
TZOFFSETTO:-0600
TZNAME:MDT
DTSTART:20240310T090000
END:DAYLIGHT
BEGIN:STANDARD
TZOFFSETFROM:-0600
TZOFFSETTO:-0700
TZNAME:MST
DTSTART:20241103T080000
END:STANDARD
BEGIN:DAYLIGHT
TZOFFSETFROM:-0700
TZOFFSETTO:-0600
TZNAME:MDT
DTSTART:20250309T090000
END:DAYLIGHT
BEGIN:STANDARD
TZOFFSETFROM:-0600
TZOFFSETTO:-0700
TZNAME:MST
DTSTART:20251102T080000
END:STANDARD
BEGIN:DAYLIGHT
TZOFFSETFROM:-0700
TZOFFSETTO:-0600
TZNAME:MDT
DTSTART:20260308T090000
END:DAYLIGHT
BEGIN:STANDARD
TZOFFSETFROM:-0600
TZOFFSETTO:-0700
TZNAME:MST
DTSTART:20261101T080000
END:STANDARD
END:VTIMEZONE
BEGIN:VEVENT
DTSTART;TZID=America/Denver:20250902T170000
DTEND;TZID=America/Denver:20250902T190000
DTSTAMP:20260423T174255
CREATED:20250117T183516Z
LAST-MODIFIED:20250117T183516Z
UID:694-1756832400-1756839600@sandiagunclub.com
SUMMARY:Tuesday Evening Indoor Precision Pistol League
DESCRIPTION:We shoot two standard 900s each Tuesday evening at Calibers in Albuquerque starting at 5:00pm. Once a month we replace the second 900 with a “snubby” match in which you are encouraged to shoot your carry firearm. The snubby match is a 30-round National Match course. Afterward we convene at a local restaurant for good food and conversation. \nMatch Bulletin <- click here
URL:https://sandiagunclub.com/event/tuesday-evening-indoor-precision-pistol-league-11/
LOCATION:Calibers Shooting Center – Cutler\, 4340 CUTLER AVE NE\, Albuquerque\, NM\, 87110\, United States
CATEGORIES:Precision Pistol
END:VEVENT
BEGIN:VEVENT
DTSTART;TZID=America/Denver:20250905T100000
DTEND;TZID=America/Denver:20250905T170000
DTSTAMP:20260423T174255
CREATED:20250113T183221Z
LAST-MODIFIED:20250113T184119Z
UID:623-1757066400-1757091600@sandiagunclub.com
SUMMARY:Civilian Marksmanship Program Excellence in Competition Matches and NRA Distinguished Revolver Match
DESCRIPTION:Match Bulletin <– click here \nOn the first day of this State Championship weekend we will shoot CMP’s EIC matches and afterward we will shoot NRA’s distinguished revolver match. There will be four matches on this Friday. Plan to be there by 10:00am. First round will be shot at 11:00am at the John Schooley Memorial PPC Range of the NRA Whittington Center near Raton\, New Mexico. \nCMP .22 Cal EIC \nCMP Service Pistol EIC \nCMP President’s Revolver \nNRA Distinguished Revolver
URL:https://sandiagunclub.com/event/civilian-marksmanship-program-excellence-in-competition-matches-and-nra-distinguished-revolver-match-2/
LOCATION:NRA Whittington Center\, John Schooley Range\, 34025 US-64\, Raton\, NM 87740\, Raton\, NM\, 87740\, United States
CATEGORIES:Precision Pistol
END:VEVENT
BEGIN:VEVENT
DTSTART;TZID=America/Denver:20250906T080000
DTEND;TZID=America/Denver:20250906T120000
DTSTAMP:20260423T174255
CREATED:20250113T182004Z
LAST-MODIFIED:20250113T182004Z
UID:615-1757145600-1757160000@sandiagunclub.com
SUMMARY:Metric Smallbore Prone Rifle League Match
DESCRIPTION:Sandia Gun Club\n2025 Metric Smallbore Prone Rifle League \nMatch Bulletin <– click here \nConducted at\nAlbuquerque Shooting Range Park (ASRP) \n \nSafety – Everyone must comply with all Park rules and with instructions of the ASRP Manager and staff. Firearms may not be brought to the firing line until the match director has called the line hot. All firearms\, cased or not\, must be carried straight up between the line and your vehicle. \n\n\n\nDates – February 1\, March 1\, April 5\, May 3\, June 7\, Aug 2\, Sept 6\, Oct. 4\, Nov 1\, Dec. 6\, 2025 \n\n\n\nLocation – Albuquerque Shooting Range Park\, (505-836-8785) Take exit 149 from I-40\, go north about 4 miles to turnoff to ASRP\, follow pavement west until you reach the range. \nTime – Registration begins at 0900. Firing starts at ~0930. \nRegistration Procedure – First\, pick up a target frame. Come to the 100 yard range immediately east of the range house for the match. Please sign in on the match/league signup sheets. The match director will collect fees. Firing will begin when all competitors are signed in and ready to fire. If you have your own portable frames please bring them! \nFee – Match fee (includes Alb Shooting Park fee) is $8 for Sandia members\, $10 for non-Sandia members\, and free to juniors and collegiates. There is no league fee. \nInsurance – SGC members are covered by the Club’s insurance. Non-members pay an additional two dollar ($2.00) per match fee to register as a SGC “match member.” \nRules – Current NRA Conventional Smallbore Prone rifle rules will apply (league is not NRA approved). Additionally\, an F-Class or Unlimited Rifle category has been created\, though scores fired by shooters in this unsanctioned category will not be turned in to the NRA\, and they will not compete directly with shooters using complying equipment. Any safe .22 caliber rimfire rifle may enter the F-Class category. Telescopic sights may be used for all stages\, and rests and sandbags will be allowed. Please contact the match director if you have questions. \nCourse of fire – Match will be conducted at 50 and 100 yards. Match is one-hundred twenty (120) shots for record. Time is 20 minutes per target card (20 shots)\, including unlimited sighters during that period.\nStage 1 – 40 record shots\, 50yds\, iron sights (50 meters reduced\, target A51)\nStage 2 – 40 record shots\, 100yds\, iron sights (100 meters\, target A-33)\nStage 3 – 20 record shots\, 100yds\, any sights + 20 record shots\, 50yds\, any sights (Dewar) (50 meters reduced\, target A51\, 100 meters\, target A-33) \nAwards – No awards will be given. \nTargets and Frames – The league will provide a target frame and targets (A-51 and A-33). Participants may provide any special frames they require.\nContact – The Match Director\, Virginia McLemore\, can be reached via email at virginia.mclemore@nmt.edu or via phone at 575-835-5521 or 575-517-0525. \n 
URL:https://sandiagunclub.com/event/metric-smallbore-prone-rifle-league-match-6/
LOCATION:Albuquerque Shooting Range Park\, 16001 Shooting Range Access NW\, Albuquerque\, NM\, 87120\, United States
CATEGORIES:Smallbore Rifle
END:VEVENT
BEGIN:VEVENT
DTSTART;TZID=America/Denver:20250906T080000
DTEND;TZID=America/Denver:20250906T170000
DTSTAMP:20260423T174255
CREATED:20250113T183426Z
LAST-MODIFIED:20250113T184144Z
UID:628-1757145600-1757178000@sandiagunclub.com
SUMMARY:New Mexico State Pistol Championship - Day One
DESCRIPTION:Match Bulletin <– click here \nThe New Mexico State Pistol Championship is an NRA Sanctioned “2700.” We will shoot one “900” each of 22lr\, centerfire and 45. We can accommodate 40 shooters on the line and each shooter can spread the three 900s over the two days. Please arrive about 7:00am. The first relay will start shooting at 8:00am. \nNRA’s Whittington center is one of the most beautiful and extensive shooting parks in the country. It is at the eastern base of the Sangre de Cristo Mountains\, so is subject to wind\, rain and heat. Come prepared\, but you won’t regret it.
URL:https://sandiagunclub.com/event/new-mexico-state-pistol-championship-day-one-2/
LOCATION:NRA Whittington Center\, John Schooley Range\, 34025 US-64\, Raton\, NM 87740\, Raton\, NM\, 87740\, United States
CATEGORIES:Precision Pistol
END:VEVENT
BEGIN:VEVENT
DTSTART;TZID=America/Denver:20250907T080000
DTEND;TZID=America/Denver:20250907T170000
DTSTAMP:20260423T174255
CREATED:20250113T183614Z
LAST-MODIFIED:20250113T184256Z
UID:633-1757232000-1757264400@sandiagunclub.com
SUMMARY:New Mexico State Pistol Championships - Day Two
DESCRIPTION:Match Bulletin <– click here \nThe New Mexico State Pistol Championship is an NRA Sanctioned “2700.” We will shoot one “900” each of 22lr\, centerfire and 45. We can accommodate 40 shooters on the line and each shooter can spread the three 900s over the two days. Please arrive about 7:00am. The first relay will start shooting at 8:00am. \nNRA’s Whittington center is one of the most beautiful and extensive shooting parks in the country. It is at the eastern base of the Sangre de Cristo Mountains\, so is subject to wind\, rain and heat. Come prepared\, but you won’t regret it.
URL:https://sandiagunclub.com/event/new-mexico-state-pistol-championships-day-two-2/
LOCATION:NM
CATEGORIES:Precision Pistol
END:VEVENT
BEGIN:VEVENT
DTSTART;TZID=America/Denver:20250909T170000
DTEND;TZID=America/Denver:20250909T190000
DTSTAMP:20260423T174255
CREATED:20250117T183645Z
LAST-MODIFIED:20250117T183645Z
UID:696-1757437200-1757444400@sandiagunclub.com
SUMMARY:Tuesday Evening Indoor Precision Pistol League
DESCRIPTION:We shoot two standard 900s each Tuesday evening at Calibers in Albuquerque starting at 5:00pm. Once a month we replace the second 900 with a “snubby” match in which you are encouraged to shoot your carry firearm. The snubby match is a 30-round National Match course. Afterward we convene at a local restaurant for good food and conversation. \nMatch Bulletin <- click here
URL:https://sandiagunclub.com/event/tuesday-evening-indoor-precision-pistol-league-12/
LOCATION:Calibers Shooting Center – Cutler\, 4340 CUTLER AVE NE\, Albuquerque\, NM\, 87110\, United States
CATEGORIES:Precision Pistol
END:VEVENT
BEGIN:VEVENT
DTSTART;TZID=America/Denver:20250910T173000
DTEND;TZID=America/Denver:20250910T193000
DTSTAMP:20260423T174255
CREATED:20250113T190030Z
LAST-MODIFIED:20250113T190030Z
UID:653-1757525400-1757532600@sandiagunclub.com
SUMMARY:Sandia Gun Club Monthly Meeting
DESCRIPTION:If you would like attend and join us please contact us at sandiagunclubabq@gmail.com for directions to the venue.
URL:https://sandiagunclub.com/event/sandia-gun-club-monthly-meeting-11/
LOCATION:NM
CATEGORIES:Club Business and Social Meeting
END:VEVENT
BEGIN:VEVENT
DTSTART;TZID=America/Denver:20250914T080000
DTEND;TZID=America/Denver:20250914T120000
DTSTAMP:20260423T174255
CREATED:20250113T164124Z
LAST-MODIFIED:20250113T164124Z
UID:558-1757836800-1757851200@sandiagunclub.com
SUMMARY:NRA Sanctioned High Power Rifle Match
DESCRIPTION:We hold an NRA high power rifle match on the second Sunday of each month throughout the year at Albuquerque’s Shooting Range Park. We gather at 8:00 am year around. At present we shoot all stages on the 100 yard range on reduced targets. \nWe shoot the NRA 80-round course in four stages at 100 yards\, “from position.” \nStage 1) Standing slow fire\, preceded by two sighters. 20 rounds (+2)  in 22 minutes. Single load. SR-1 target. \nStage 2) Sitting rapid fire\, preceded by two sighters\, 20 rounds in two strings\, each 70-second\, 10-round string with a reload. SR-1 target \nStage 3) Prone rapid fire\, preceded by two sighters\, 20 rounds in two strings\, each 60-second\, 10-round string with a reload. MR-21 target \nStage 4) Prone slow fire\, preceded by two sighters. 20 rounds (+2)  in 22 minutes. Single load. MR-31 target. \nMost competitors shoot modern service rifles\, but we welcome any rifle that can single load. If you arrive with an M1 Garand we will even have your special match calls. \nAfterward we often gather after the match for some good eats and socializing. Please watch the events calendar.
URL:https://sandiagunclub.com/event/nra-sanctioned-high-power-rifle-match-13/
LOCATION:Albuquerque Shooting Range Park\, 16001 Shooting Range Access NW\, Albuquerque\, NM\, 87120\, United States
CATEGORIES:High Power Rifle
END:VEVENT
BEGIN:VEVENT
DTSTART;TZID=America/Denver:20250916T170000
DTEND;TZID=America/Denver:20250916T190000
DTSTAMP:20260423T174255
CREATED:20250117T183814Z
LAST-MODIFIED:20250117T183814Z
UID:698-1758042000-1758049200@sandiagunclub.com
SUMMARY:Tuesday Evening Indoor Precision Pistol League
DESCRIPTION:We shoot two standard 900s each Tuesday evening at Calibers in Albuquerque starting at 5:00pm. Once a month we replace the second 900 with a “snubby” match in which you are encouraged to shoot your carry firearm. The snubby match is a 30-round National Match course. Afterward we convene at a local restaurant for good food and conversation. \nMatch Bulletin <- click here
URL:https://sandiagunclub.com/event/tuesday-evening-indoor-precision-pistol-league-13/
LOCATION:Calibers Shooting Center – Cutler\, 4340 CUTLER AVE NE\, Albuquerque\, NM\, 87110\, United States
CATEGORIES:Precision Pistol
END:VEVENT
BEGIN:VEVENT
DTSTART;TZID=America/Denver:20250923T170000
DTEND;TZID=America/Denver:20250923T190000
DTSTAMP:20260423T174255
CREATED:20250117T183938Z
LAST-MODIFIED:20250117T183938Z
UID:700-1758646800-1758654000@sandiagunclub.com
SUMMARY:Tuesday Evening Indoor Precision Pistol League
DESCRIPTION:We shoot two standard 900s each Tuesday evening at Calibers in Albuquerque starting at 5:00pm. Once a month we replace the second 900 with a “snubby” match in which you are encouraged to shoot your carry firearm. The snubby match is a 30-round National Match course. Afterward we convene at a local restaurant for good food and conversation. \nMatch Bulletin <- click here
URL:https://sandiagunclub.com/event/tuesday-evening-indoor-precision-pistol-league-14/
LOCATION:Calibers Shooting Center – Cutler\, 4340 CUTLER AVE NE\, Albuquerque\, NM\, 87110\, United States
END:VEVENT
BEGIN:VEVENT
DTSTART;TZID=America/Denver:20250930T170000
DTEND;TZID=America/Denver:20250930T190000
DTSTAMP:20260423T174255
CREATED:20250117T184044Z
LAST-MODIFIED:20250117T184044Z
UID:702-1759251600-1759258800@sandiagunclub.com
SUMMARY:Tuesday Evening Indoor Precision Pistol League
DESCRIPTION:We shoot two standard 900s each Tuesday evening at Calibers in Albuquerque starting at 5:00pm. Once a month we replace the second 900 with a “snubby” match in which you are encouraged to shoot your carry firearm. The snubby match is a 30-round National Match course. Afterward we convene at a local restaurant for good food and conversation. \nMatch Bulletin <- click here
URL:https://sandiagunclub.com/event/tuesday-evening-indoor-precision-pistol-league-15/
LOCATION:Calibers Shooting Center – Cutler\, 4340 CUTLER AVE NE\, Albuquerque\, NM\, 87110\, United States
CATEGORIES:Precision Pistol
END:VEVENT
END:VCALENDAR