BEGIN:VCALENDAR
VERSION:2.0
PRODID:-//Sandia Gun Club - ECPv6.15.20//NONSGML v1.0//EN
CALSCALE:GREGORIAN
METHOD:PUBLISH
X-WR-CALNAME:Sandia Gun Club
X-ORIGINAL-URL:https://sandiagunclub.com
X-WR-CALDESC:Events for Sandia Gun Club
REFRESH-INTERVAL;VALUE=DURATION:PT1H
X-Robots-Tag:noindex
X-PUBLISHED-TTL:PT1H
BEGIN:VTIMEZONE
TZID:America/Denver
BEGIN:DAYLIGHT
TZOFFSETFROM:-0700
TZOFFSETTO:-0600
TZNAME:MDT
DTSTART:20230312T090000
END:DAYLIGHT
BEGIN:STANDARD
TZOFFSETFROM:-0600
TZOFFSETTO:-0700
TZNAME:MST
DTSTART:20231105T080000
END:STANDARD
BEGIN:DAYLIGHT
TZOFFSETFROM:-0700
TZOFFSETTO:-0600
TZNAME:MDT
DTSTART:20240310T090000
END:DAYLIGHT
BEGIN:STANDARD
TZOFFSETFROM:-0600
TZOFFSETTO:-0700
TZNAME:MST
DTSTART:20241103T080000
END:STANDARD
BEGIN:DAYLIGHT
TZOFFSETFROM:-0700
TZOFFSETTO:-0600
TZNAME:MDT
DTSTART:20250309T090000
END:DAYLIGHT
BEGIN:STANDARD
TZOFFSETFROM:-0600
TZOFFSETTO:-0700
TZNAME:MST
DTSTART:20251102T080000
END:STANDARD
END:VTIMEZONE
BEGIN:VEVENT
DTSTART;TZID=America/Denver:20240807T173000
DTEND;TZID=America/Denver:20240807T193000
DTSTAMP:20260424T112633
CREATED:20240807T184151Z
LAST-MODIFIED:20240807T184151Z
UID:400-1723051800-1723059000@sandiagunclub.com
SUMMARY:Sandia Gun Club Monthly Meeting
DESCRIPTION:If you would like attend and join us please contact us at sandiagunclubabq@gmail.com for directions to the venue.
URL:https://sandiagunclub.com/event/sandia-gun-club-monthly-meeting/
LOCATION:NM
END:VEVENT
BEGIN:VEVENT
DTSTART;TZID=America/Denver:20240811T080000
DTEND;TZID=America/Denver:20240811T113000
DTSTAMP:20260424T112633
CREATED:20240807T174951Z
LAST-MODIFIED:20240807T174951Z
UID:377-1723363200-1723375800@sandiagunclub.com
SUMMARY:NRA Sanctioned High Power Rifle Match
DESCRIPTION:We hold an NRA high power rifle match on the second Sunday of each month throughout the year at Albuquerque’s Shooting Range Park. We gather at 8:00 am year around. At present we shoot all stages on the 100 yard range on reduced targets. \nWe shoot the NRA 80-round course in four stages at 100 yards\, “from position.” \nStage 1) Standing slow fire\, preceded by two sighters. 20 rounds (+2)  in 22 minutes. Single load. SR-1 target. \nStage 2) Sitting rapid fire\, preceded by two sighters\, 20 rounds in two strings\, each 70-second\, 10-round string with a reload. SR-1 target \nStage 3) Prone rapid fire\, preceded by two sighters\, 20 rounds in two strings\, each 60-second\, 10-round string with a reload. MR-21 target \nStage 4) Prone slow fire\, preceded by two sighters. 20 rounds (+2)  in 22 minutes. Single load. MR-31 target. \nMost competitors shoot modern service rifles\, but we welcome any rifle that can single load. If you arrive with an M1 Garand we will even have your special match calls. \nAfterward we often gather at “The Bombing Range Restaurant” at the Double Eagle Airport next door to the Shooting Range for some good eats and socializing. Please watch the events calendar.
URL:https://sandiagunclub.com/event/nra-sanctioned-high-power-rifle-match/
LOCATION:Albuquerque Shooting Range Park\, 16001 Shooting Range Access NW\, Albuquerque\, NM\, 87120\, United States
END:VEVENT
BEGIN:VEVENT
DTSTART;TZID=America/Denver:20240813T170000
DTEND;TZID=America/Denver:20240813T190000
DTSTAMP:20260424T112633
CREATED:20240807T165804Z
LAST-MODIFIED:20240807T165804Z
UID:332-1723568400-1723575600@sandiagunclub.com
SUMMARY:Tuesday Evening Precision Pistol League
DESCRIPTION:We shoot two standard 900s each Tuesday evening at Calibers in Albuquerque starting at 5:00pm. Once a month we replace the second 900 with a “snubby” match in which you are encouraged to shoot your carry firearm. The snubby match is a 30-round National Match course. Afterward we convene at a local restaurant for good food and conversation.
URL:https://sandiagunclub.com/event/tuesday-evening-precision-pistol-league-11/
LOCATION:Calibers Shooting Center – Cutler\, 4340 CUTLER AVE NE\, Albuquerque\, NM\, 87110\, United States
END:VEVENT
BEGIN:VEVENT
DTSTART;TZID=America/Denver:20240820T170000
DTEND;TZID=America/Denver:20240820T190000
DTSTAMP:20260424T112633
CREATED:20240807T170046Z
LAST-MODIFIED:20240807T170046Z
UID:335-1724173200-1724180400@sandiagunclub.com
SUMMARY:Tuesday Evening Precision Pistol League
DESCRIPTION:We shoot two standard 900s each Tuesday evening at Calibers in Albuquerque starting at 5:00pm. Once a month we replace the second 900 with a “snubby” match in which you are encouraged to shoot your carry firearm. The snubby match is a 30-round National Match course. Afterward we convene at a local restaurant for good food and conversation.
URL:https://sandiagunclub.com/event/tuesday-evening-precision-pistol-league-12/
LOCATION:Calibers Shooting Center – Cutler\, 4340 CUTLER AVE NE\, Albuquerque\, NM\, 87110\, United States
END:VEVENT
BEGIN:VEVENT
DTSTART;TZID=America/Denver:20240827T170000
DTEND;TZID=America/Denver:20240827T190000
DTSTAMP:20260424T112633
CREATED:20240807T170205Z
LAST-MODIFIED:20240807T170205Z
UID:337-1724778000-1724785200@sandiagunclub.com
SUMMARY:Tuesday Evening Precision Pistol League
DESCRIPTION:We shoot two standard 900s each Tuesday evening at Calibers in Albuquerque starting at 5:00pm. Once a month we replace the second 900 with a “snubby” match in which you are encouraged to shoot your carry firearm. The snubby match is a 30-round National Match course. Afterward we convene at a local restaurant for good food and conversation.
URL:https://sandiagunclub.com/event/tuesday-evening-precision-pistol-league-13/
LOCATION:Calibers Shooting Center – Cutler\, 4340 CUTLER AVE NE\, Albuquerque\, NM\, 87110\, United States
END:VEVENT
BEGIN:VEVENT
DTSTART;TZID=America/Denver:20240831T080000
DTEND;TZID=America/Denver:20240831T120000
DTSTAMP:20260424T112633
CREATED:20240819T225735Z
LAST-MODIFIED:20240819T230214Z
UID:428-1725091200-1725105600@sandiagunclub.com
SUMMARY:NRA Monthly Outdoor Precision Pistol Match
DESCRIPTION:Note: This match is an exception. This replaces the normal first Saturday in September match because we are holding the State Precision Pistol Championships at Whittington\, September 6-8\, 2024   \n  \nWe hold an NRA outdoor 1800 match on the first Saturday of each month throughout the year at Albuquerque’s Shooting Range Park. We normally meet at 8:30am at our shed near the office. First shots are at 9:00am. \nOur outdoor course of fire is the standard NRA 900. We usually shoot at 25 yards\, but when the time gets close to the State Matches we’ll move slow fire to 50 yards for those who want the practice. \nStage 1) Slow fire. 20 rounds in 20 minutes. \nStage 2) The National Match Course. \nSlow fire. 10 rounds in 10 minutes \nTimed fire\, Two strings of five rounds\, each in 20 seconds \nRapid fire\, Two strings of five rounds\, each in 10 seconds. \nStage 3) Timed fire\, Four strings of five rounds\, each in 20 seconds \nStage 4) Rapid fire\, Four strings of five rounds\, each in 10 seconds \n  \nWe usually gather afterward at Double Eagle Airport’s “Bombing Range” restaurant for good food and conversation.
URL:https://sandiagunclub.com/event/nra-monthly-outdoor-precision-pistol-match/
LOCATION:Albuquerque Shooting Range Park\, 16001 Shooting Range Access NW\, Albuquerque\, NM\, 87120\, United States
END:VEVENT
END:VCALENDAR