BEGIN:VCALENDAR
VERSION:2.0
PRODID:-//Sandia Gun Club - ECPv6.15.20//NONSGML v1.0//EN
CALSCALE:GREGORIAN
METHOD:PUBLISH
X-ORIGINAL-URL:https://sandiagunclub.com
X-WR-CALDESC:Events for Sandia Gun Club
REFRESH-INTERVAL;VALUE=DURATION:PT1H
X-Robots-Tag:noindex
X-PUBLISHED-TTL:PT1H
BEGIN:VTIMEZONE
TZID:America/Denver
BEGIN:DAYLIGHT
TZOFFSETFROM:-0700
TZOFFSETTO:-0600
TZNAME:MDT
DTSTART:20220313T090000
END:DAYLIGHT
BEGIN:STANDARD
TZOFFSETFROM:-0600
TZOFFSETTO:-0700
TZNAME:MST
DTSTART:20221106T080000
END:STANDARD
BEGIN:DAYLIGHT
TZOFFSETFROM:-0700
TZOFFSETTO:-0600
TZNAME:MDT
DTSTART:20230312T090000
END:DAYLIGHT
BEGIN:STANDARD
TZOFFSETFROM:-0600
TZOFFSETTO:-0700
TZNAME:MST
DTSTART:20231105T080000
END:STANDARD
BEGIN:DAYLIGHT
TZOFFSETFROM:-0700
TZOFFSETTO:-0600
TZNAME:MDT
DTSTART:20240310T090000
END:DAYLIGHT
BEGIN:STANDARD
TZOFFSETFROM:-0600
TZOFFSETTO:-0700
TZNAME:MST
DTSTART:20241103T080000
END:STANDARD
END:VTIMEZONE
BEGIN:VEVENT
DTSTART;TZID=America/Denver:20230411T170000
DTEND;TZID=America/Denver:20230411T190000
DTSTAMP:20260425T094126
CREATED:20230410T100914Z
LAST-MODIFIED:20230410T100914Z
UID:188-1681232400-1681239600@sandiagunclub.com
SUMMARY:Tuesday Evening Precision Pistol League
DESCRIPTION:
URL:https://sandiagunclub.com/event/tuesday-evening-precision-pistol-league-3/
LOCATION:Calibers Shooting Center – Cutler\, 4340 CUTLER AVE NE\, Albuquerque\, NM\, 87110\, United States
END:VEVENT
BEGIN:VEVENT
DTSTART;TZID=America/Denver:20230418T170000
DTEND;TZID=America/Denver:20230418T190000
DTSTAMP:20260425T094126
CREATED:20230410T101432Z
LAST-MODIFIED:20230410T101432Z
UID:191-1681837200-1681844400@sandiagunclub.com
SUMMARY:Tuesday Evening Precision Pistol League
DESCRIPTION:
URL:https://sandiagunclub.com/event/tuesday-evening-precision-pistol-league-4/
LOCATION:Calibers Shooting Center – Cutler\, 4340 CUTLER AVE NE\, Albuquerque\, NM\, 87110\, United States
END:VEVENT
BEGIN:VEVENT
DTSTART;TZID=America/Denver:20230425T170000
DTEND;TZID=America/Denver:20230425T190000
DTSTAMP:20260425T094126
CREATED:20230410T101529Z
LAST-MODIFIED:20230415T071947Z
UID:193-1682442000-1682449200@sandiagunclub.com
SUMMARY:Tuesday Evening Precision Pistol League
DESCRIPTION:
URL:https://sandiagunclub.com/event/tuesday-evening-precision-pistol-league-5/
LOCATION:Calibers Shooting Center – Cutler\, 4340 CUTLER AVE NE\, Albuquerque\, NM\, 87110\, United States
END:VEVENT
END:VCALENDAR