BEGIN:VCALENDAR
VERSION:2.0
PRODID:-//Sandia Gun Club - ECPv6.15.20//NONSGML v1.0//EN
CALSCALE:GREGORIAN
METHOD:PUBLISH
X-WR-CALNAME:Sandia Gun Club
X-ORIGINAL-URL:https://sandiagunclub.com
X-WR-CALDESC:Events for Sandia Gun Club
REFRESH-INTERVAL;VALUE=DURATION:PT1H
X-Robots-Tag:noindex
X-PUBLISHED-TTL:PT1H
BEGIN:VTIMEZONE
TZID:America/Denver
BEGIN:DAYLIGHT
TZOFFSETFROM:-0700
TZOFFSETTO:-0600
TZNAME:MDT
DTSTART:20250309T090000
END:DAYLIGHT
BEGIN:STANDARD
TZOFFSETFROM:-0600
TZOFFSETTO:-0700
TZNAME:MST
DTSTART:20251102T080000
END:STANDARD
BEGIN:DAYLIGHT
TZOFFSETFROM:-0700
TZOFFSETTO:-0600
TZNAME:MDT
DTSTART:20260308T090000
END:DAYLIGHT
BEGIN:STANDARD
TZOFFSETFROM:-0600
TZOFFSETTO:-0700
TZNAME:MST
DTSTART:20261101T080000
END:STANDARD
BEGIN:DAYLIGHT
TZOFFSETFROM:-0700
TZOFFSETTO:-0600
TZNAME:MDT
DTSTART:20270314T090000
END:DAYLIGHT
BEGIN:STANDARD
TZOFFSETFROM:-0600
TZOFFSETTO:-0700
TZNAME:MST
DTSTART:20271107T080000
END:STANDARD
END:VTIMEZONE
BEGIN:VEVENT
DTSTART;TZID=America/Denver:20260616T170000
DTEND;TZID=America/Denver:20260616T190000
DTSTAMP:20260423T133749
CREATED:20260111T190140Z
LAST-MODIFIED:20260111T190140Z
UID:834-1781629200-1781636400@sandiagunclub.com
SUMMARY:Tuesday Evening Indoor Precision Pistol League
DESCRIPTION:We shoot two standard 900s each Tuesday evening at Calibers in Albuquerque starting at 5:00pm. Once a month we replace the second 900 with a “snubby” match in which you are encouraged to shoot your carry firearm. The snubby match is a 30-round National Match course. Afterward we convene at a local restaurant for good food and conversation. \nMatch Bulletin <- click here
URL:https://sandiagunclub.com/event/tuesday-evening-indoor-precision-pistol-league-49/
LOCATION:Calibers Shooting Center – Cutler\, 4340 CUTLER AVE NE\, Albuquerque\, NM\, 87110\, United States
CATEGORIES:Precision Pistol
END:VEVENT
BEGIN:VEVENT
DTSTART;TZID=America/Denver:20260623T170000
DTEND;TZID=America/Denver:20260623T190000
DTSTAMP:20260423T133749
CREATED:20260111T190220Z
LAST-MODIFIED:20260111T190345Z
UID:836-1782234000-1782241200@sandiagunclub.com
SUMMARY:Tuesday Evening Indoor Precision Pistol League
DESCRIPTION:We shoot two standard 900s each Tuesday evening at Calibers in Albuquerque starting at 5:00pm. Once a month we replace the second 900 with a “snubby” match in which you are encouraged to shoot your carry firearm. The snubby match is a 30-round National Match course. Afterward we convene at a local restaurant for good food and conversation. \nMatch Bulletin <- click here
URL:https://sandiagunclub.com/event/tuesday-evening-indoor-precision-pistol-league-50/
LOCATION:Calibers Shooting Center – Cutler\, 4340 CUTLER AVE NE\, Albuquerque\, NM\, 87110\, United States
CATEGORIES:Precision Pistol
END:VEVENT
BEGIN:VEVENT
DTSTART;TZID=America/Denver:20260630T170000
DTEND;TZID=America/Denver:20260630T190000
DTSTAMP:20260423T133749
CREATED:20260111T190309Z
LAST-MODIFIED:20260111T190309Z
UID:838-1782838800-1782846000@sandiagunclub.com
SUMMARY:Tuesday Evening Indoor Precision Pistol League
DESCRIPTION:We shoot two standard 900s each Tuesday evening at Calibers in Albuquerque starting at 5:00pm. Once a month we replace the second 900 with a “snubby” match in which you are encouraged to shoot your carry firearm. The snubby match is a 30-round National Match course. Afterward we convene at a local restaurant for good food and conversation. \nMatch Bulletin <- click here
URL:https://sandiagunclub.com/event/tuesday-evening-indoor-precision-pistol-league-51/
LOCATION:Calibers Shooting Center – Cutler\, 4340 CUTLER AVE NE\, Albuquerque\, NM\, 87110\, United States
CATEGORIES:Precision Pistol
END:VEVENT
BEGIN:VEVENT
DTSTART;TZID=America/Denver:20260911T080000
DTEND;TZID=America/Denver:20260911T170000
DTSTAMP:20260423T133749
CREATED:20260112T195932Z
LAST-MODIFIED:20260112T195932Z
UID:862-1789113600-1789146000@sandiagunclub.com
SUMMARY:Civilian Marksmanship Program Excellence in Competition Matches and NRA Distinguished Revolver Match
DESCRIPTION:Match Bulletin <– click here \nOn the first day of this State Championship weekend we will shoot CMP’s EIC matches and afterward we will shoot NRA’s distinguished revolver match. There will be four matches on this Friday. Plan to be there by 10:00am. First round will be shot at 11:00am at the John Schooley Memorial PPC Range of the NRA Whittington Center near Raton\, New Mexico. \nCMP .22 Cal EIC \nCMP Service Pistol EIC \nCMP President’s Revolver \nNRA Distinguished Revolver
URL:https://sandiagunclub.com/event/civilian-marksmanship-program-excellence-in-competition-matches-and-nra-distinguished-revolver-match-3/
LOCATION:NRA Whittington Center\, John Schooley Range\, 34025 US-64\, Raton\, NM 87740\, Raton\, NM\, 87740\, United States
CATEGORIES:Precision Pistol
END:VEVENT
BEGIN:VEVENT
DTSTART;TZID=America/Denver:20260912T080000
DTEND;TZID=America/Denver:20260912T170000
DTSTAMP:20260423T133749
CREATED:20260112T200400Z
LAST-MODIFIED:20260112T200400Z
UID:864-1789200000-1789232400@sandiagunclub.com
SUMMARY:New Mexico State Pistol Championship - Day One
DESCRIPTION:Match Bulletin <– click here \nThe New Mexico State Pistol Championship is an NRA Sanctioned “2700.” We will shoot one “900” each of 22lr\, centerfire and 45. We can accommodate 40 shooters on the line and each shooter can spread the three 900s over the two days. Please arrive about 7:00am. The first relay will start shooting at 8:00am. \nNRA’s Whittington center is one of the most beautiful and extensive shooting parks in the country. It is at the eastern base of the Sangre de Cristo Mountains\, so is subject to wind\, rain and heat. Come prepared\, but you won’t regret it.
URL:https://sandiagunclub.com/event/new-mexico-state-pistol-championship-day-one-3/
LOCATION:NRA Whittington Center\, John Schooley Range\, 34025 US-64\, Raton\, NM 87740\, Raton\, NM\, 87740\, United States
CATEGORIES:Precision Pistol
END:VEVENT
BEGIN:VEVENT
DTSTART;TZID=America/Denver:20260913T080000
DTEND;TZID=America/Denver:20260913T170000
DTSTAMP:20260423T133749
CREATED:20260112T200525Z
LAST-MODIFIED:20260112T200525Z
UID:866-1789286400-1789318800@sandiagunclub.com
SUMMARY:New Mexico State Pistol Championships - Day Two
DESCRIPTION:Match Bulletin <– click here \nThe New Mexico State Pistol Championship is an NRA Sanctioned “2700.” We will shoot one “900” each of 22lr\, centerfire and 45. We can accommodate 40 shooters on the line and each shooter can spread the three 900s over the two days. Please arrive about 7:00am. The first relay will start shooting at 8:00am. \nNRA’s Whittington center is one of the most beautiful and extensive shooting parks in the country. It is at the eastern base of the Sangre de Cristo Mountains\, so is subject to wind\, rain and heat. Come prepared\, but you won’t regret it.
URL:https://sandiagunclub.com/event/new-mexico-state-pistol-championships-day-two-3/
LOCATION:NRA Whittington Center\, John Schooley Range\, 34025 US-64\, Raton\, NM 87740\, Raton\, NM\, 87740\, United States
CATEGORIES:Precision Pistol
END:VEVENT
END:VCALENDAR