BEGIN:VCALENDAR
VERSION:2.0
PRODID:-//Sandia Gun Club - ECPv6.15.20//NONSGML v1.0//EN
CALSCALE:GREGORIAN
METHOD:PUBLISH
X-WR-CALNAME:Sandia Gun Club
X-ORIGINAL-URL:https://sandiagunclub.com
X-WR-CALDESC:Events for Sandia Gun Club
REFRESH-INTERVAL;VALUE=DURATION:PT1H
X-Robots-Tag:noindex
X-PUBLISHED-TTL:PT1H
BEGIN:VTIMEZONE
TZID:America/Denver
BEGIN:DAYLIGHT
TZOFFSETFROM:-0700
TZOFFSETTO:-0600
TZNAME:MDT
DTSTART:20220313T090000
END:DAYLIGHT
BEGIN:STANDARD
TZOFFSETFROM:-0600
TZOFFSETTO:-0700
TZNAME:MST
DTSTART:20221106T080000
END:STANDARD
BEGIN:DAYLIGHT
TZOFFSETFROM:-0700
TZOFFSETTO:-0600
TZNAME:MDT
DTSTART:20230312T090000
END:DAYLIGHT
BEGIN:STANDARD
TZOFFSETFROM:-0600
TZOFFSETTO:-0700
TZNAME:MST
DTSTART:20231105T080000
END:STANDARD
BEGIN:DAYLIGHT
TZOFFSETFROM:-0700
TZOFFSETTO:-0600
TZNAME:MDT
DTSTART:20240310T090000
END:DAYLIGHT
BEGIN:STANDARD
TZOFFSETFROM:-0600
TZOFFSETTO:-0700
TZNAME:MST
DTSTART:20241103T080000
END:STANDARD
BEGIN:DAYLIGHT
TZOFFSETFROM:-0700
TZOFFSETTO:-0600
TZNAME:MDT
DTSTART:20250309T090000
END:DAYLIGHT
BEGIN:STANDARD
TZOFFSETFROM:-0600
TZOFFSETTO:-0700
TZNAME:MST
DTSTART:20251102T080000
END:STANDARD
END:VTIMEZONE
BEGIN:VTIMEZONE
TZID:UTC
BEGIN:STANDARD
TZOFFSETFROM:+0000
TZOFFSETTO:+0000
TZNAME:UTC
DTSTART:20220101T000000
END:STANDARD
END:VTIMEZONE
BEGIN:VEVENT
DTSTART;TZID=America/Denver:20240906T100000
DTEND;TZID=America/Denver:20240906T160000
DTSTAMP:20260425T071602
CREATED:20240807T181953Z
LAST-MODIFIED:20240807T181953Z
UID:393-1725616800-1725638400@sandiagunclub.com
SUMMARY:Civilian Marksmanship Program Excellence in Competition Matches and NRA Distinguished Revolver Match
DESCRIPTION:On the first day of this State Championship weekend we will shoot CMP’s EIC matches and afterward we will shoot NRA’s distinguished revolver match. There will be four matches on this Friday. Plan to be there by 10:00am. First round will be shot at 11:00am at the John Schooley Memorial PPC Range of the NRA Whittington Center near Raton\, New Mexico. \nCMP .22 Cal EIC \nCMP Service Pistol EIC \nCMP President’s Revolver \nNRA Distinguished Revolver
URL:https://sandiagunclub.com/event/civilian-marksmanship-program-excellence-in-competition-matches-and-nra-distinguished-revolver-match/
LOCATION:NRA Whittington Center\, John Schooley Range\, 34025 US-64\, Raton\, NM 87740\, Raton\, NM\, 87740\, United States
END:VEVENT
BEGIN:VEVENT
DTSTART;TZID=America/Denver:20240903T170000
DTEND;TZID=America/Denver:20240903T190000
DTSTAMP:20260425T071602
CREATED:20240807T170807Z
LAST-MODIFIED:20240807T170934Z
UID:339-1725382800-1725390000@sandiagunclub.com
SUMMARY:Tuesday Evening Precision Pistol League
DESCRIPTION:We shoot two standard 900s each Tuesday evening at Calibers in Albuquerque starting at 5:00pm. Once a month we replace the second 900 with a “snubby” match in which you are encouraged to shoot your carry firearm. The snubby match is a 30-round National Match course. Afterward we convene at a local restaurant for good food and conversation.
URL:https://sandiagunclub.com/event/tuesday-evening-precision-pistol-league-14/
LOCATION:Calibers Shooting Center – Cutler\, 4340 CUTLER AVE NE\, Albuquerque\, NM\, 87110\, United States
END:VEVENT
BEGIN:VEVENT
DTSTART;TZID=America/Denver:20240831T080000
DTEND;TZID=America/Denver:20240831T120000
DTSTAMP:20260425T071602
CREATED:20240819T225735Z
LAST-MODIFIED:20240819T230214Z
UID:428-1725091200-1725105600@sandiagunclub.com
SUMMARY:NRA Monthly Outdoor Precision Pistol Match
DESCRIPTION:Note: This match is an exception. This replaces the normal first Saturday in September match because we are holding the State Precision Pistol Championships at Whittington\, September 6-8\, 2024   \n  \nWe hold an NRA outdoor 1800 match on the first Saturday of each month throughout the year at Albuquerque’s Shooting Range Park. We normally meet at 8:30am at our shed near the office. First shots are at 9:00am. \nOur outdoor course of fire is the standard NRA 900. We usually shoot at 25 yards\, but when the time gets close to the State Matches we’ll move slow fire to 50 yards for those who want the practice. \nStage 1) Slow fire. 20 rounds in 20 minutes. \nStage 2) The National Match Course. \nSlow fire. 10 rounds in 10 minutes \nTimed fire\, Two strings of five rounds\, each in 20 seconds \nRapid fire\, Two strings of five rounds\, each in 10 seconds. \nStage 3) Timed fire\, Four strings of five rounds\, each in 20 seconds \nStage 4) Rapid fire\, Four strings of five rounds\, each in 10 seconds \n  \nWe usually gather afterward at Double Eagle Airport’s “Bombing Range” restaurant for good food and conversation.
URL:https://sandiagunclub.com/event/nra-monthly-outdoor-precision-pistol-match/
LOCATION:Albuquerque Shooting Range Park\, 16001 Shooting Range Access NW\, Albuquerque\, NM\, 87120\, United States
END:VEVENT
BEGIN:VEVENT
DTSTART;TZID=America/Denver:20240827T170000
DTEND;TZID=America/Denver:20240827T190000
DTSTAMP:20260425T071602
CREATED:20240807T170205Z
LAST-MODIFIED:20240807T170205Z
UID:337-1724778000-1724785200@sandiagunclub.com
SUMMARY:Tuesday Evening Precision Pistol League
DESCRIPTION:We shoot two standard 900s each Tuesday evening at Calibers in Albuquerque starting at 5:00pm. Once a month we replace the second 900 with a “snubby” match in which you are encouraged to shoot your carry firearm. The snubby match is a 30-round National Match course. Afterward we convene at a local restaurant for good food and conversation.
URL:https://sandiagunclub.com/event/tuesday-evening-precision-pistol-league-13/
LOCATION:Calibers Shooting Center – Cutler\, 4340 CUTLER AVE NE\, Albuquerque\, NM\, 87110\, United States
END:VEVENT
BEGIN:VEVENT
DTSTART;TZID=America/Denver:20240820T170000
DTEND;TZID=America/Denver:20240820T190000
DTSTAMP:20260425T071602
CREATED:20240807T170046Z
LAST-MODIFIED:20240807T170046Z
UID:335-1724173200-1724180400@sandiagunclub.com
SUMMARY:Tuesday Evening Precision Pistol League
DESCRIPTION:We shoot two standard 900s each Tuesday evening at Calibers in Albuquerque starting at 5:00pm. Once a month we replace the second 900 with a “snubby” match in which you are encouraged to shoot your carry firearm. The snubby match is a 30-round National Match course. Afterward we convene at a local restaurant for good food and conversation.
URL:https://sandiagunclub.com/event/tuesday-evening-precision-pistol-league-12/
LOCATION:Calibers Shooting Center – Cutler\, 4340 CUTLER AVE NE\, Albuquerque\, NM\, 87110\, United States
END:VEVENT
BEGIN:VEVENT
DTSTART;TZID=America/Denver:20240813T170000
DTEND;TZID=America/Denver:20240813T190000
DTSTAMP:20260425T071602
CREATED:20240807T165804Z
LAST-MODIFIED:20240807T165804Z
UID:332-1723568400-1723575600@sandiagunclub.com
SUMMARY:Tuesday Evening Precision Pistol League
DESCRIPTION:We shoot two standard 900s each Tuesday evening at Calibers in Albuquerque starting at 5:00pm. Once a month we replace the second 900 with a “snubby” match in which you are encouraged to shoot your carry firearm. The snubby match is a 30-round National Match course. Afterward we convene at a local restaurant for good food and conversation.
URL:https://sandiagunclub.com/event/tuesday-evening-precision-pistol-league-11/
LOCATION:Calibers Shooting Center – Cutler\, 4340 CUTLER AVE NE\, Albuquerque\, NM\, 87110\, United States
END:VEVENT
BEGIN:VEVENT
DTSTART;TZID=America/Denver:20240811T080000
DTEND;TZID=America/Denver:20240811T113000
DTSTAMP:20260425T071602
CREATED:20240807T174951Z
LAST-MODIFIED:20240807T174951Z
UID:377-1723363200-1723375800@sandiagunclub.com
SUMMARY:NRA Sanctioned High Power Rifle Match
DESCRIPTION:We hold an NRA high power rifle match on the second Sunday of each month throughout the year at Albuquerque’s Shooting Range Park. We gather at 8:00 am year around. At present we shoot all stages on the 100 yard range on reduced targets. \nWe shoot the NRA 80-round course in four stages at 100 yards\, “from position.” \nStage 1) Standing slow fire\, preceded by two sighters. 20 rounds (+2)  in 22 minutes. Single load. SR-1 target. \nStage 2) Sitting rapid fire\, preceded by two sighters\, 20 rounds in two strings\, each 70-second\, 10-round string with a reload. SR-1 target \nStage 3) Prone rapid fire\, preceded by two sighters\, 20 rounds in two strings\, each 60-second\, 10-round string with a reload. MR-21 target \nStage 4) Prone slow fire\, preceded by two sighters. 20 rounds (+2)  in 22 minutes. Single load. MR-31 target. \nMost competitors shoot modern service rifles\, but we welcome any rifle that can single load. If you arrive with an M1 Garand we will even have your special match calls. \nAfterward we often gather at “The Bombing Range Restaurant” at the Double Eagle Airport next door to the Shooting Range for some good eats and socializing. Please watch the events calendar.
URL:https://sandiagunclub.com/event/nra-sanctioned-high-power-rifle-match/
LOCATION:Albuquerque Shooting Range Park\, 16001 Shooting Range Access NW\, Albuquerque\, NM\, 87120\, United States
END:VEVENT
BEGIN:VEVENT
DTSTART;TZID=America/Denver:20240807T173000
DTEND;TZID=America/Denver:20240807T193000
DTSTAMP:20260425T071602
CREATED:20240807T184151Z
LAST-MODIFIED:20240807T184151Z
UID:400-1723051800-1723059000@sandiagunclub.com
SUMMARY:Sandia Gun Club Monthly Meeting
DESCRIPTION:If you would like attend and join us please contact us at sandiagunclubabq@gmail.com for directions to the venue.
URL:https://sandiagunclub.com/event/sandia-gun-club-monthly-meeting/
LOCATION:NM
END:VEVENT
BEGIN:VEVENT
DTSTART;TZID=America/Denver:20240521T170000
DTEND;TZID=America/Denver:20240521T190000
DTSTAMP:20260425T071602
CREATED:20240505T155912Z
LAST-MODIFIED:20240505T214841Z
UID:327-1716310800-1716318000@sandiagunclub.com
SUMMARY:Tuesday Evening Precision Pistol League
DESCRIPTION:We shoot two standard 900s each Tuesday evening at Calibers in Albuquerque starting at 5:00pm. Once a month we replace the second 900 with a “snubby” match in which you are encouraged to shoot your carry firearm. The snubby match is a 30-round National Match course. Afterward we convene at a local restaurant for good food and conversation.
URL:https://sandiagunclub.com/event/tuesday-evening-precision-pistol-league-10/
LOCATION:NM
END:VEVENT
BEGIN:VEVENT
DTSTART;TZID=America/Denver:20240514T170000
DTEND;TZID=America/Denver:20240514T190000
DTSTAMP:20260425T071602
CREATED:20240505T155722Z
LAST-MODIFIED:20240505T155722Z
UID:325-1715706000-1715713200@sandiagunclub.com
SUMMARY:Tuesday Evening Precision Pistol League
DESCRIPTION:We shoot two standard 900s each Tuesday evening at Calibers in Albuquerque starting at 5:00pm. Once a month we replace the second 900 with a “snubby” match in which you are encouraged to shoot your carry firearm. The snubby match is a 30-round National Match course. Afterward we convene at a local restaurant for good food and conversation.
URL:https://sandiagunclub.com/event/tuesday-evening-precision-pistol-league-9/
LOCATION:Calibers Shooting Center – Cutler\, 4340 CUTLER AVE NE\, Albuquerque\, NM\, 87110\, United States
END:VEVENT
BEGIN:VEVENT
DTSTART;TZID=America/Denver:20240512T080000
DTEND;TZID=America/Denver:20240512T120000
DTSTAMP:20260425T071602
CREATED:20240505T215538Z
LAST-MODIFIED:20240505T215538Z
UID:330-1715500800-1715515200@sandiagunclub.com
SUMMARY:NRA High Power Rifle Match
DESCRIPTION:On the second Sunday of each month we shoot the standard 80-round NRA match course at 100 yards on reduced targets. That is because the range at the Albuquerque Shooting Range Park\, dedicated to us\, is only 100 yards. However we shoot the standard course of fire. Meet at the Sandia Gun Club shack in the administration trailer parking lot at 8:00am. Shooting starts at 9:00am. Bring $6 for range fees. Joining the yearly league costs $20.
URL:https://sandiagunclub.com/event/nra-high-power-rifle-match/
LOCATION:Albuquerque Shooting Range Park\, 16001 Shooting Range Access NW\, Albuquerque\, NM\, 87120\, United States
END:VEVENT
BEGIN:VEVENT
DTSTART;TZID=America/Denver:20240507T170000
DTEND;TZID=America/Denver:20240507T190000
DTSTAMP:20260425T071602
CREATED:20240505T155533Z
LAST-MODIFIED:20240505T155533Z
UID:323-1715101200-1715108400@sandiagunclub.com
SUMMARY:Tuesday Evening Precision Pistol League
DESCRIPTION:We shoot two standard 900s each Tuesday evening at Calibers in Albuquerque starting at 5:00pm. Once a month we replace the second 900 with a “snubby” match in which you are encouraged to shoot your carry firearm. The snubby match is a 30-round National Match course. Afterward we convene at a local restaurant for good food and conversation.
URL:https://sandiagunclub.com/event/tuesday-evening-precision-pistol-league-8/
LOCATION:Calibers Shooting Center – Cutler\, 4340 CUTLER AVE NE\, Albuquerque\, NM\, 87110\, United States
END:VEVENT
BEGIN:VEVENT
DTSTART;TZID=America/Denver:20240504T080000
DTEND;TZID=America/Denver:20240504T120000
DTSTAMP:20260425T071602
CREATED:20240502T054228Z
LAST-MODIFIED:20240503T000409Z
UID:316-1714809600-1714824000@sandiagunclub.com
SUMMARY:Outdoor Precision Pistol
DESCRIPTION:Monthly Outdoor Precision Pistol Match. We shoot two back-to-back 900s\, 22lr and centerfire. This Saturday we will shoot the long line (50 yds) for slow fire. Meet at the SGC shack near the ABQ SRP administration trailer at 8:00am. Bring $6 in cash for SRP range fees ($5 if you’re 65+).
URL:https://sandiagunclub.com/event/outdoor-precision-pistol/
LOCATION:Albuquerque Shooting Range Park\, 16001 Shooting Range Access NW\, Albuquerque\, NM\, 87120\, United States
END:VEVENT
BEGIN:VEVENT
DTSTART;TZID=America/Denver:20230509T170000
DTEND;TZID=America/Denver:20230509T190000
DTSTAMP:20260425T071602
CREATED:20230410T101746Z
LAST-MODIFIED:20230410T101746Z
UID:197-1683651600-1683658800@sandiagunclub.com
SUMMARY:Tuesday Evening Precision Pistol League
DESCRIPTION:
URL:https://sandiagunclub.com/event/tuesday-evening-precision-pistol-league-7/
LOCATION:Calibers Shooting Center – Cutler\, 4340 CUTLER AVE NE\, Albuquerque\, NM\, 87110\, United States
END:VEVENT
BEGIN:VEVENT
DTSTART;TZID=UTC:20230506T083000
DTEND;TZID=UTC:20230506T120000
DTSTAMP:20260425T071602
CREATED:20230410T101957Z
LAST-MODIFIED:20230410T101957Z
UID:199-1683361800-1683374400@sandiagunclub.com
SUMMARY:Monthly Outdoor Precision Pistol League
DESCRIPTION:
URL:https://sandiagunclub.com/event/monthly-outdoor-precision-pistol-league/
LOCATION:Albuquerque Shooting Range Park\, 16001 Shooting Range Access NW\, Albuquerque\, NM\, 87120\, United States
END:VEVENT
BEGIN:VEVENT
DTSTART;TZID=America/Denver:20230502T170000
DTEND;TZID=America/Denver:20230502T190000
DTSTAMP:20260425T071602
CREATED:20230410T101636Z
LAST-MODIFIED:20230415T072114Z
UID:195-1683046800-1683054000@sandiagunclub.com
SUMMARY:Tuesday Evening Precision Pistol League
DESCRIPTION:
URL:https://sandiagunclub.com/event/tuesday-evening-precision-pistol-league-6/
LOCATION:Calibers Shooting Center – Cutler\, 4340 CUTLER AVE NE\, Albuquerque\, NM\, 87110\, United States
END:VEVENT
BEGIN:VEVENT
DTSTART;TZID=America/Denver:20230425T170000
DTEND;TZID=America/Denver:20230425T190000
DTSTAMP:20260425T071602
CREATED:20230410T101529Z
LAST-MODIFIED:20230415T071947Z
UID:193-1682442000-1682449200@sandiagunclub.com
SUMMARY:Tuesday Evening Precision Pistol League
DESCRIPTION:
URL:https://sandiagunclub.com/event/tuesday-evening-precision-pistol-league-5/
LOCATION:Calibers Shooting Center – Cutler\, 4340 CUTLER AVE NE\, Albuquerque\, NM\, 87110\, United States
END:VEVENT
BEGIN:VEVENT
DTSTART;TZID=America/Denver:20230418T170000
DTEND;TZID=America/Denver:20230418T190000
DTSTAMP:20260425T071602
CREATED:20230410T101432Z
LAST-MODIFIED:20230410T101432Z
UID:191-1681837200-1681844400@sandiagunclub.com
SUMMARY:Tuesday Evening Precision Pistol League
DESCRIPTION:
URL:https://sandiagunclub.com/event/tuesday-evening-precision-pistol-league-4/
LOCATION:Calibers Shooting Center – Cutler\, 4340 CUTLER AVE NE\, Albuquerque\, NM\, 87110\, United States
END:VEVENT
BEGIN:VEVENT
DTSTART;TZID=America/Denver:20230411T170000
DTEND;TZID=America/Denver:20230411T190000
DTSTAMP:20260425T071602
CREATED:20230410T100914Z
LAST-MODIFIED:20230410T100914Z
UID:188-1681232400-1681239600@sandiagunclub.com
SUMMARY:Tuesday Evening Precision Pistol League
DESCRIPTION:
URL:https://sandiagunclub.com/event/tuesday-evening-precision-pistol-league-3/
LOCATION:Calibers Shooting Center – Cutler\, 4340 CUTLER AVE NE\, Albuquerque\, NM\, 87110\, United States
END:VEVENT
BEGIN:VEVENT
DTSTART;TZID=UTC:20230204T083000
DTEND;TZID=UTC:20230204T120000
DTSTAMP:20260425T071602
CREATED:20230129T194319Z
LAST-MODIFIED:20230129T194747Z
UID:118-1675499400-1675512000@sandiagunclub.com
SUMMARY:Monthly Outdoor Precision Pistol - 1800
DESCRIPTION:
URL:https://sandiagunclub.com/event/tuesday-evening-precision-pistol-league-2/
LOCATION:Albuquerque Shooting Range Park\, 16001 Shooting Range Access NW\, Albuquerque\, NM\, 87120\, United States
END:VEVENT
BEGIN:VEVENT
DTSTART;TZID=UTC:20230131T170000
DTEND;TZID=UTC:20230131T190000
DTSTAMP:20260425T071602
CREATED:20230129T081927Z
LAST-MODIFIED:20230129T081927Z
UID:68-1675184400-1675191600@sandiagunclub.com
SUMMARY:Tuesday Evening Precision Pistol League
DESCRIPTION:
URL:https://sandiagunclub.com/event/tuesday-evening-precision-pistol-league/
LOCATION:Calibers Shooting Center – Cutler\, 4340 CUTLER AVE NE\, Albuquerque\, NM\, 87110\, United States
END:VEVENT
END:VCALENDAR