BEGIN:VCALENDAR
VERSION:2.0
PRODID:-//Sandia Gun Club - ECPv6.15.20//NONSGML v1.0//EN
CALSCALE:GREGORIAN
METHOD:PUBLISH
X-WR-CALNAME:Sandia Gun Club
X-ORIGINAL-URL:https://sandiagunclub.com
X-WR-CALDESC:Events for Sandia Gun Club
REFRESH-INTERVAL;VALUE=DURATION:PT1H
X-Robots-Tag:noindex
X-PUBLISHED-TTL:PT1H
BEGIN:VTIMEZONE
TZID:America/Denver
BEGIN:DAYLIGHT
TZOFFSETFROM:-0700
TZOFFSETTO:-0600
TZNAME:MDT
DTSTART:20250309T090000
END:DAYLIGHT
BEGIN:STANDARD
TZOFFSETFROM:-0600
TZOFFSETTO:-0700
TZNAME:MST
DTSTART:20251102T080000
END:STANDARD
BEGIN:DAYLIGHT
TZOFFSETFROM:-0700
TZOFFSETTO:-0600
TZNAME:MDT
DTSTART:20260308T090000
END:DAYLIGHT
BEGIN:STANDARD
TZOFFSETFROM:-0600
TZOFFSETTO:-0700
TZNAME:MST
DTSTART:20261101T080000
END:STANDARD
BEGIN:DAYLIGHT
TZOFFSETFROM:-0700
TZOFFSETTO:-0600
TZNAME:MDT
DTSTART:20270314T090000
END:DAYLIGHT
BEGIN:STANDARD
TZOFFSETFROM:-0600
TZOFFSETTO:-0700
TZNAME:MST
DTSTART:20271107T080000
END:STANDARD
END:VTIMEZONE
BEGIN:VEVENT
DTSTART;TZID=America/Denver:20260303T170000
DTEND;TZID=America/Denver:20260303T190000
DTSTAMP:20260423T135312
CREATED:20260111T183607Z
LAST-MODIFIED:20260111T183607Z
UID:808-1772557200-1772564400@sandiagunclub.com
SUMMARY:Tuesday Evening Indoor Precision Pistol League
DESCRIPTION:We shoot two standard 900s each Tuesday evening at Calibers in Albuquerque starting at 5:00pm. Once a month we replace the second 900 with a “snubby” match in which you are encouraged to shoot your carry firearm. The snubby match is a 30-round National Match course. Afterward we convene at a local restaurant for good food and conversation. \nMatch Bulletin <- click here
URL:https://sandiagunclub.com/event/tuesday-evening-indoor-precision-pistol-league-36/
LOCATION:Calibers Shooting Center – Cutler\, 4340 CUTLER AVE NE\, Albuquerque\, NM\, 87110\, United States
CATEGORIES:Precision Pistol
END:VEVENT
BEGIN:VEVENT
DTSTART;TZID=America/Denver:20260307T080000
DTEND;TZID=America/Denver:20260307T120000
DTSTAMP:20260423T135312
CREATED:20260111T192019Z
LAST-MODIFIED:20260111T192019Z
UID:843-1772870400-1772884800@sandiagunclub.com
SUMMARY:NRA Sanctioned Outdoor Precision Pistol Match
DESCRIPTION:We hold an NRA outdoor 1800 match on the first Saturday of each month throughout the year at Albuquerque’s Shooting Range Park. We normally meet at 8:30am at our shed near the office. First shots are at 9:00am. \nMatch Bulletin <– Click here \nOur outdoor course of fire is the standard NRA 900. We usually shoot at 25 yards\, but when the time gets close to the State Matches we’ll move slow fire to 50 yards for those who want the practice. \nStage 1) Slow fire. 20 rounds in 20 minutes. \nStage 2) The National Match Course. \nSlow fire. 10 rounds in 10 minutes \nTimed fire\, Two strings of five rounds\, each in 20 seconds \nRapid fire\, Two strings of five rounds\, each in 10 seconds. \nStage 3) Timed fire\, Four strings of five rounds\, each in 20 seconds \nStage 4) Rapid fire\, Four strings of five rounds\, each in 10 seconds \nWe usually gather afterward at a local restaurant for good food and conversation.
URL:https://sandiagunclub.com/event/nra-sanctioned-outdoor-precision-pistol-match-10/
LOCATION:Albuquerque Shooting Range Park\, 16001 Shooting Range Access NW\, Albuquerque\, NM\, 87120\, United States
CATEGORIES:Precision Pistol
END:VEVENT
BEGIN:VEVENT
DTSTART;TZID=America/Denver:20260310T170000
DTEND;TZID=America/Denver:20260310T190000
DTSTAMP:20260423T135312
CREATED:20260111T183438Z
LAST-MODIFIED:20260111T184129Z
UID:806-1773162000-1773169200@sandiagunclub.com
SUMMARY:Tuesday Evening Indoor Precision Pistol League
DESCRIPTION:We shoot two standard 900s each Tuesday evening at Calibers in Albuquerque starting at 5:00pm. Once a month we replace the second 900 with a “snubby” match in which you are encouraged to shoot your carry firearm. The snubby match is a 30-round National Match course. Afterward we convene at a local restaurant for good food and conversation. \nMatch Bulletin <- click here
URL:https://sandiagunclub.com/event/tuesday-evening-indoor-precision-pistol-league-35/
LOCATION:Calibers Shooting Center – Cutler\, 4340 CUTLER AVE NE\, Albuquerque\, NM\, 87110\, United States
CATEGORIES:Precision Pistol
END:VEVENT
BEGIN:VEVENT
DTSTART;TZID=America/Denver:20260317T170000
DTEND;TZID=America/Denver:20260317T190000
DTSTAMP:20260423T135312
CREATED:20260111T183711Z
LAST-MODIFIED:20260111T183711Z
UID:810-1773766800-1773774000@sandiagunclub.com
SUMMARY:Tuesday Evening Indoor Precision Pistol League
DESCRIPTION:We shoot two standard 900s each Tuesday evening at Calibers in Albuquerque starting at 5:00pm. Once a month we replace the second 900 with a “snubby” match in which you are encouraged to shoot your carry firearm. The snubby match is a 30-round National Match course. Afterward we convene at a local restaurant for good food and conversation. \nMatch Bulletin <- click here
URL:https://sandiagunclub.com/event/tuesday-evening-indoor-precision-pistol-league-37/
LOCATION:Calibers Shooting Center – Cutler\, 4340 CUTLER AVE NE\, Albuquerque\, NM\, 87110\, United States
CATEGORIES:Precision Pistol
END:VEVENT
BEGIN:VEVENT
DTSTART;TZID=America/Denver:20260324T170000
DTEND;TZID=America/Denver:20260324T190000
DTSTAMP:20260423T135312
CREATED:20260111T183844Z
LAST-MODIFIED:20260111T183844Z
UID:812-1774371600-1774378800@sandiagunclub.com
SUMMARY:Tuesday Evening Indoor Precision Pistol League
DESCRIPTION:We shoot two standard 900s each Tuesday evening at Calibers in Albuquerque starting at 5:00pm. Once a month we replace the second 900 with a “snubby” match in which you are encouraged to shoot your carry firearm. The snubby match is a 30-round National Match course. Afterward we convene at a local restaurant for good food and conversation. \nMatch Bulletin <- click here
URL:https://sandiagunclub.com/event/tuesday-evening-indoor-precision-pistol-league-38/
LOCATION:Calibers Shooting Center – Cutler\, 4340 CUTLER AVE NE\, Albuquerque\, NM\, 87110\, United States
CATEGORIES:Precision Pistol
END:VEVENT
BEGIN:VEVENT
DTSTART;TZID=America/Denver:20260331T170000
DTEND;TZID=America/Denver:20260331T190000
DTSTAMP:20260423T135312
CREATED:20260111T180240Z
LAST-MODIFIED:20260111T184302Z
UID:798-1774976400-1774983600@sandiagunclub.com
SUMMARY:Tuesday Evening Indoor Precision Pistol League
DESCRIPTION:We shoot two standard 900s each Tuesday evening at Calibers in Albuquerque starting at 5:00pm. Once a month we replace the second 900 with a “snubby” match in which you are encouraged to shoot your carry firearm. The snubby match is a 30-round National Match course. Afterward we convene at a local restaurant for good food and conversation. \nMatch Bulletin <- click here
URL:https://sandiagunclub.com/event/tuesday-evening-indoor-precision-pistol-league-31/
LOCATION:Calibers Shooting Center – Cutler\, 4340 CUTLER AVE NE\, Albuquerque\, NM\, 87110\, United States
CATEGORIES:Precision Pistol
END:VEVENT
END:VCALENDAR