BEGIN:VCALENDAR
VERSION:2.0
PRODID:-//Sandia Gun Club - ECPv6.15.20//NONSGML v1.0//EN
CALSCALE:GREGORIAN
METHOD:PUBLISH
X-ORIGINAL-URL:https://sandiagunclub.com
X-WR-CALDESC:Events for Sandia Gun Club
REFRESH-INTERVAL;VALUE=DURATION:PT1H
X-Robots-Tag:noindex
X-PUBLISHED-TTL:PT1H
BEGIN:VTIMEZONE
TZID:America/Denver
BEGIN:DAYLIGHT
TZOFFSETFROM:-0700
TZOFFSETTO:-0600
TZNAME:MDT
DTSTART:20240310T090000
END:DAYLIGHT
BEGIN:STANDARD
TZOFFSETFROM:-0600
TZOFFSETTO:-0700
TZNAME:MST
DTSTART:20241103T080000
END:STANDARD
BEGIN:DAYLIGHT
TZOFFSETFROM:-0700
TZOFFSETTO:-0600
TZNAME:MDT
DTSTART:20250309T090000
END:DAYLIGHT
BEGIN:STANDARD
TZOFFSETFROM:-0600
TZOFFSETTO:-0700
TZNAME:MST
DTSTART:20251102T080000
END:STANDARD
BEGIN:DAYLIGHT
TZOFFSETFROM:-0700
TZOFFSETTO:-0600
TZNAME:MDT
DTSTART:20260308T090000
END:DAYLIGHT
BEGIN:STANDARD
TZOFFSETFROM:-0600
TZOFFSETTO:-0700
TZNAME:MST
DTSTART:20261101T080000
END:STANDARD
END:VTIMEZONE
BEGIN:VEVENT
DTSTART;TZID=America/Denver:20251202T170000
DTEND;TZID=America/Denver:20251202T190000
DTSTAMP:20260423T175731
CREATED:20250118T170425Z
LAST-MODIFIED:20250118T170425Z
UID:722-1764694800-1764702000@sandiagunclub.com
SUMMARY:Tuesday Evening Indoor Precision Pistol League
DESCRIPTION:We shoot two standard 900s each Tuesday evening at Calibers in Albuquerque starting at 5:00pm. Once a month we replace the second 900 with a “snubby” match in which you are encouraged to shoot your carry firearm. The snubby match is a 30-round National Match course. Afterward we convene at a local restaurant for good food and conversation. \nMatch Bulletin <- click here
URL:https://sandiagunclub.com/event/tuesday-evening-indoor-precision-pistol-league-24/
LOCATION:Calibers Shooting Center – Cutler\, 4340 CUTLER AVE NE\, Albuquerque\, NM\, 87110\, United States
CATEGORIES:Precision Pistol
END:VEVENT
BEGIN:VEVENT
DTSTART;TZID=America/Denver:20251206T080000
DTEND;TZID=America/Denver:20251206T120000
DTSTAMP:20260423T175731
CREATED:20250113T174126Z
LAST-MODIFIED:20250113T174126Z
UID:600-1765008000-1765022400@sandiagunclub.com
SUMMARY:NRA Sanctioned Outdoor Precision Pistol Match
DESCRIPTION:We hold an NRA outdoor 1800 match on the first Saturday of each month throughout the year at Albuquerque’s Shooting Range Park. We normally meet at 8:30am at our shed near the office. First shots are at 9:00am. \nMatch Bulletin <– Click here \nOur outdoor course of fire is the standard NRA 900. We usually shoot at 25 yards\, but when the time gets close to the State Matches we’ll move slow fire to 50 yards for those who want the practice. \nStage 1) Slow fire. 20 rounds in 20 minutes. \nStage 2) The National Match Course. \nSlow fire. 10 rounds in 10 minutes \nTimed fire\, Two strings of five rounds\, each in 20 seconds \nRapid fire\, Two strings of five rounds\, each in 10 seconds. \nStage 3) Timed fire\, Four strings of five rounds\, each in 20 seconds \nStage 4) Rapid fire\, Four strings of five rounds\, each in 10 seconds \nWe usually gather afterward at a local restaurant for good food and conversation.
URL:https://sandiagunclub.com/event/nra-sanctioned-outdoor-precision-pistol-match-8/
LOCATION:Albuquerque Shooting Range Park\, 16001 Shooting Range Access NW\, Albuquerque\, NM\, 87120\, United States
CATEGORIES:Precision Pistol
END:VEVENT
BEGIN:VEVENT
DTSTART;TZID=America/Denver:20251209T170000
DTEND;TZID=America/Denver:20251209T190000
DTSTAMP:20260423T175731
CREATED:20250118T170523Z
LAST-MODIFIED:20250118T170523Z
UID:724-1765299600-1765306800@sandiagunclub.com
SUMMARY:Tuesday Evening Indoor Precision Pistol League
DESCRIPTION:We shoot two standard 900s each Tuesday evening at Calibers in Albuquerque starting at 5:00pm. Once a month we replace the second 900 with a “snubby” match in which you are encouraged to shoot your carry firearm. The snubby match is a 30-round National Match course. Afterward we convene at a local restaurant for good food and conversation. \nMatch Bulletin <- click here
URL:https://sandiagunclub.com/event/tuesday-evening-indoor-precision-pistol-league-25/
LOCATION:Calibers Shooting Center – Cutler\, 4340 CUTLER AVE NE\, Albuquerque\, NM\, 87110\, United States
CATEGORIES:Precision Pistol
END:VEVENT
BEGIN:VEVENT
DTSTART;TZID=America/Denver:20251216T170000
DTEND;TZID=America/Denver:20251216T190000
DTSTAMP:20260423T175731
CREATED:20250118T170617Z
LAST-MODIFIED:20250118T170617Z
UID:726-1765904400-1765911600@sandiagunclub.com
SUMMARY:Tuesday Evening Indoor Precision Pistol League
DESCRIPTION:We shoot two standard 900s each Tuesday evening at Calibers in Albuquerque starting at 5:00pm. Once a month we replace the second 900 with a “snubby” match in which you are encouraged to shoot your carry firearm. The snubby match is a 30-round National Match course. Afterward we convene at a local restaurant for good food and conversation. \nMatch Bulletin <- click here
URL:https://sandiagunclub.com/event/tuesday-evening-indoor-precision-pistol-league-26/
LOCATION:Calibers Shooting Center – Cutler\, 4340 CUTLER AVE NE\, Albuquerque\, NM\, 87110\, United States
CATEGORIES:Precision Pistol
END:VEVENT
BEGIN:VEVENT
DTSTART;TZID=America/Denver:20251223T170000
DTEND;TZID=America/Denver:20251223T190000
DTSTAMP:20260423T175731
CREATED:20250118T170742Z
LAST-MODIFIED:20250118T170742Z
UID:728-1766509200-1766516400@sandiagunclub.com
SUMMARY:Tuesday Evening Indoor Precision Pistol League
DESCRIPTION:We shoot two standard 900s each Tuesday evening at Calibers in Albuquerque starting at 5:00pm. Once a month we replace the second 900 with a “snubby” match in which you are encouraged to shoot your carry firearm. The snubby match is a 30-round National Match course. Afterward we convene at a local restaurant for good food and conversation. \nMatch Bulletin <- click here
URL:https://sandiagunclub.com/event/tuesday-evening-indoor-precision-pistol-league-27/
LOCATION:Calibers Shooting Center – Cutler\, 4340 CUTLER AVE NE\, Albuquerque\, NM\, 87110\, United States
CATEGORIES:Precision Pistol
END:VEVENT
BEGIN:VEVENT
DTSTART;TZID=America/Denver:20251230T170000
DTEND;TZID=America/Denver:20251230T190000
DTSTAMP:20260423T175731
CREATED:20250118T170845Z
LAST-MODIFIED:20250118T170845Z
UID:730-1767114000-1767121200@sandiagunclub.com
SUMMARY:Tuesday Evening Indoor Precision Pistol League
DESCRIPTION:We shoot two standard 900s each Tuesday evening at Calibers in Albuquerque starting at 5:00pm. Once a month we replace the second 900 with a “snubby” match in which you are encouraged to shoot your carry firearm. The snubby match is a 30-round National Match course. Afterward we convene at a local restaurant for good food and conversation. \nMatch Bulletin <- click here
URL:https://sandiagunclub.com/event/tuesday-evening-indoor-precision-pistol-league-28/
LOCATION:Calibers Shooting Center – Cutler\, 4340 CUTLER AVE NE\, Albuquerque\, NM\, 87110\, United States
CATEGORIES:Precision Pistol
END:VEVENT
END:VCALENDAR