BEGIN:VCALENDAR
VERSION:2.0
PRODID:-//Sandia Gun Club - ECPv6.15.20//NONSGML v1.0//EN
CALSCALE:GREGORIAN
METHOD:PUBLISH
X-ORIGINAL-URL:https://sandiagunclub.com
X-WR-CALDESC:Events for Sandia Gun Club
REFRESH-INTERVAL;VALUE=DURATION:PT1H
X-Robots-Tag:noindex
X-PUBLISHED-TTL:PT1H
BEGIN:VTIMEZONE
TZID:America/Denver
BEGIN:DAYLIGHT
TZOFFSETFROM:-0700
TZOFFSETTO:-0600
TZNAME:MDT
DTSTART:20240310T090000
END:DAYLIGHT
BEGIN:STANDARD
TZOFFSETFROM:-0600
TZOFFSETTO:-0700
TZNAME:MST
DTSTART:20241103T080000
END:STANDARD
BEGIN:DAYLIGHT
TZOFFSETFROM:-0700
TZOFFSETTO:-0600
TZNAME:MDT
DTSTART:20250309T090000
END:DAYLIGHT
BEGIN:STANDARD
TZOFFSETFROM:-0600
TZOFFSETTO:-0700
TZNAME:MST
DTSTART:20251102T080000
END:STANDARD
BEGIN:DAYLIGHT
TZOFFSETFROM:-0700
TZOFFSETTO:-0600
TZNAME:MDT
DTSTART:20260308T090000
END:DAYLIGHT
BEGIN:STANDARD
TZOFFSETFROM:-0600
TZOFFSETTO:-0700
TZNAME:MST
DTSTART:20261101T080000
END:STANDARD
END:VTIMEZONE
BEGIN:VEVENT
DTSTART;TZID=America/Denver:20250201T090000
DTEND;TZID=America/Denver:20250201T130000
DTSTAMP:20260424T072019
CREATED:20250113T165657Z
LAST-MODIFIED:20250131T144909Z
UID:570-1738400400-1738414800@sandiagunclub.com
SUMMARY:NRA Sanctioned Outdoor Precision Pistol Match
DESCRIPTION:We hold an NRA outdoor 1800 match on the first Saturday of each month throughout the year at Albuquerque’s Shooting Range Park. We normally meet at 8:30am at our shed near the office. First shots are at 9:00am. \nMatch Bulletin <– Click here \nOur outdoor course of fire is the standard NRA 900. We usually shoot at 25 yards\, but when the time gets close to the State Matches we’ll move slow fire to 50 yards for those who want the practice. \nStage 1) Slow fire. 20 rounds in 20 minutes. \nStage 2) The National Match Course. \nSlow fire. 10 rounds in 10 minutes \nTimed fire\, Two strings of five rounds\, each in 20 seconds \nRapid fire\, Two strings of five rounds\, each in 10 seconds. \nStage 3) Timed fire\, Four strings of five rounds\, each in 20 seconds \nStage 4) Rapid fire\, Four strings of five rounds\, each in 10 seconds \nWe usually gather afterward at a local restaurant for good food and conversation.
URL:https://sandiagunclub.com/event/nra-sanctioned-precision-pistol-match-2/
LOCATION:Albuquerque Shooting Range Park\, 16001 Shooting Range Access NW\, Albuquerque\, NM\, 87120\, United States
CATEGORIES:Precision Pistol
END:VEVENT
BEGIN:VEVENT
DTSTART;TZID=America/Denver:20250204T170000
DTEND;TZID=America/Denver:20250204T190000
DTSTAMP:20260424T072019
CREATED:20250112T225618Z
LAST-MODIFIED:20250112T231741Z
UID:473-1738688400-1738695600@sandiagunclub.com
SUMMARY:Tuesday Evening Precision Pistol Leagure
DESCRIPTION:We shoot two standard 900s each Tuesday evening at Calibers in Albuquerque starting at 5:00pm. Once a month we replace the second 900 with a “snubby” match in which you are encouraged to shoot your carry firearm. The snubby match is a 30-round National Match course. Afterward we convene at a local restaurant for good food and conversation. \nMatch Bulletin <- click here
URL:https://sandiagunclub.com/event/tuesday-evening-precision-pistol-leagure/
LOCATION:Calibers Shooting Center – Cutler\, 4340 CUTLER AVE NE\, Albuquerque\, NM\, 87110\, United States
CATEGORIES:Precision Pistol
END:VEVENT
BEGIN:VEVENT
DTSTART;TZID=America/Denver:20250211T170000
DTEND;TZID=America/Denver:20250211T190000
DTSTAMP:20260424T072019
CREATED:20250112T225719Z
LAST-MODIFIED:20250112T231808Z
UID:475-1739293200-1739300400@sandiagunclub.com
SUMMARY:Tuesday Evening Precision Pistol League
DESCRIPTION:We shoot two standard 900s each Tuesday evening at Calibers in Albuquerque starting at 5:00pm. Once a month we replace the second 900 with a “snubby” match in which you are encouraged to shoot your carry firearm. The snubby match is a 30-round National Match course. Afterward we convene at a local restaurant for good food and conversation. \nMatch Bulletin <- click here \n 
URL:https://sandiagunclub.com/event/tuesday-evening-precision-pistol-league-33/
LOCATION:Calibers Shooting Center – Cutler\, 4340 CUTLER AVE NE\, Albuquerque\, NM\, 87110\, United States
CATEGORIES:Precision Pistol
END:VEVENT
BEGIN:VEVENT
DTSTART;TZID=America/Denver:20250218T170000
DTEND;TZID=America/Denver:20250218T190000
DTSTAMP:20260424T072019
CREATED:20250112T230009Z
LAST-MODIFIED:20250112T231828Z
UID:480-1739898000-1739905200@sandiagunclub.com
SUMMARY:Tuesday Evening Precision Pistol League
DESCRIPTION:We shoot two standard 900s each Tuesday evening at Calibers in Albuquerque starting at 5:00pm. Once a month we replace the second 900 with a “snubby” match in which you are encouraged to shoot your carry firearm. The snubby match is a 30-round National Match course. Afterward we convene at a local restaurant for good food and conversation. \nMatch Bulletin <- click here
URL:https://sandiagunclub.com/event/tuesday-evening-precision-pistol-league-34/
LOCATION:Calibers Shooting Center – Cutler\, 4340 CUTLER AVE NE\, Albuquerque\, NM\, 87110\, United States
CATEGORIES:Precision Pistol
END:VEVENT
BEGIN:VEVENT
DTSTART;TZID=America/Denver:20250225T170000
DTEND;TZID=America/Denver:20250225T190000
DTSTAMP:20260424T072019
CREATED:20250112T230813Z
LAST-MODIFIED:20250112T231858Z
UID:485-1740502800-1740510000@sandiagunclub.com
SUMMARY:Tuesday Evening Precision Pistol League
DESCRIPTION:We shoot two standard 900s each Tuesday evening at Calibers in Albuquerque starting at 5:00pm. Once a month we replace the second 900 with a “snubby” match in which you are encouraged to shoot your carry firearm. The snubby match is a 30-round National Match course. Afterward we convene at a local restaurant for good food and conversation. \nMatch Bulletin <- click here
URL:https://sandiagunclub.com/event/tuesday-evening-precision-pistol-league-36/
LOCATION:Calibers Shooting Center – Cutler\, 4340 CUTLER AVE NE\, Albuquerque\, NM\, 87110\, United States
CATEGORIES:Precision Pistol
END:VEVENT
END:VCALENDAR