BEGIN:VCALENDAR
VERSION:2.0
PRODID:-//Sandia Gun Club - ECPv6.15.20//NONSGML v1.0//EN
CALSCALE:GREGORIAN
METHOD:PUBLISH
X-WR-CALNAME:Sandia Gun Club
X-ORIGINAL-URL:https://sandiagunclub.com
X-WR-CALDESC:Events for Sandia Gun Club
REFRESH-INTERVAL;VALUE=DURATION:PT1H
X-Robots-Tag:noindex
X-PUBLISHED-TTL:PT1H
BEGIN:VTIMEZONE
TZID:America/Denver
BEGIN:DAYLIGHT
TZOFFSETFROM:-0700
TZOFFSETTO:-0600
TZNAME:MDT
DTSTART:20240310T090000
END:DAYLIGHT
BEGIN:STANDARD
TZOFFSETFROM:-0600
TZOFFSETTO:-0700
TZNAME:MST
DTSTART:20241103T080000
END:STANDARD
BEGIN:DAYLIGHT
TZOFFSETFROM:-0700
TZOFFSETTO:-0600
TZNAME:MDT
DTSTART:20250309T090000
END:DAYLIGHT
BEGIN:STANDARD
TZOFFSETFROM:-0600
TZOFFSETTO:-0700
TZNAME:MST
DTSTART:20251102T080000
END:STANDARD
BEGIN:DAYLIGHT
TZOFFSETFROM:-0700
TZOFFSETTO:-0600
TZNAME:MDT
DTSTART:20260308T090000
END:DAYLIGHT
BEGIN:STANDARD
TZOFFSETFROM:-0600
TZOFFSETTO:-0700
TZNAME:MST
DTSTART:20261101T080000
END:STANDARD
END:VTIMEZONE
BEGIN:VEVENT
DTSTART;TZID=America/Denver:20251214T080000
DTEND;TZID=America/Denver:20251214T120000
DTSTAMP:20260423T174422
CREATED:20250113T164415Z
LAST-MODIFIED:20250113T164415Z
UID:564-1765699200-1765713600@sandiagunclub.com
SUMMARY:NRA Sanctioned High Power Rifle Match
DESCRIPTION:We hold an NRA high power rifle match on the second Sunday of each month throughout the year at Albuquerque’s Shooting Range Park. We gather at 8:00 am year around. At present we shoot all stages on the 100 yard range on reduced targets. \nWe shoot the NRA 80-round course in four stages at 100 yards\, “from position.” \nStage 1) Standing slow fire\, preceded by two sighters. 20 rounds (+2)  in 22 minutes. Single load. SR-1 target. \nStage 2) Sitting rapid fire\, preceded by two sighters\, 20 rounds in two strings\, each 70-second\, 10-round string with a reload. SR-1 target \nStage 3) Prone rapid fire\, preceded by two sighters\, 20 rounds in two strings\, each 60-second\, 10-round string with a reload. MR-21 target \nStage 4) Prone slow fire\, preceded by two sighters. 20 rounds (+2)  in 22 minutes. Single load. MR-31 target. \nMost competitors shoot modern service rifles\, but we welcome any rifle that can single load. If you arrive with an M1 Garand we will even have your special match calls. \nAfterward we often gather after the match for some good eats and socializing. Please watch the events calendar.
URL:https://sandiagunclub.com/event/nra-sanctioned-high-power-rifle-match-16/
LOCATION:Albuquerque Shooting Range Park\, 16001 Shooting Range Access NW\, Albuquerque\, NM\, 87120\, United States
CATEGORIES:High Power Rifle
END:VEVENT
BEGIN:VEVENT
DTSTART;TZID=America/Denver:20251109T080000
DTEND;TZID=America/Denver:20251109T120000
DTSTAMP:20260423T174422
CREATED:20250113T164321Z
LAST-MODIFIED:20250113T164321Z
UID:562-1762675200-1762689600@sandiagunclub.com
SUMMARY:NRA Sanctioned High Power Rifle Match
DESCRIPTION:We hold an NRA high power rifle match on the second Sunday of each month throughout the year at Albuquerque’s Shooting Range Park. We gather at 8:00 am year around. At present we shoot all stages on the 100 yard range on reduced targets. \nWe shoot the NRA 80-round course in four stages at 100 yards\, “from position.” \nStage 1) Standing slow fire\, preceded by two sighters. 20 rounds (+2)  in 22 minutes. Single load. SR-1 target. \nStage 2) Sitting rapid fire\, preceded by two sighters\, 20 rounds in two strings\, each 70-second\, 10-round string with a reload. SR-1 target \nStage 3) Prone rapid fire\, preceded by two sighters\, 20 rounds in two strings\, each 60-second\, 10-round string with a reload. MR-21 target \nStage 4) Prone slow fire\, preceded by two sighters. 20 rounds (+2)  in 22 minutes. Single load. MR-31 target. \nMost competitors shoot modern service rifles\, but we welcome any rifle that can single load. If you arrive with an M1 Garand we will even have your special match calls. \nAfterward we often gather after the match for some good eats and socializing. Please watch the events calendar.
URL:https://sandiagunclub.com/event/nra-sanctioned-high-power-rifle-match-15/
LOCATION:Albuquerque Shooting Range Park\, 16001 Shooting Range Access NW\, Albuquerque\, NM\, 87120\, United States
CATEGORIES:High Power Rifle
END:VEVENT
BEGIN:VEVENT
DTSTART;TZID=America/Denver:20251012T080000
DTEND;TZID=America/Denver:20251012T120000
DTSTAMP:20260423T174422
CREATED:20250113T164221Z
LAST-MODIFIED:20250113T164221Z
UID:560-1760256000-1760270400@sandiagunclub.com
SUMMARY:NRA Sanctioned High Power Rifle Match
DESCRIPTION:We hold an NRA high power rifle match on the second Sunday of each month throughout the year at Albuquerque’s Shooting Range Park. We gather at 8:00 am year around. At present we shoot all stages on the 100 yard range on reduced targets. \nWe shoot the NRA 80-round course in four stages at 100 yards\, “from position.” \nStage 1) Standing slow fire\, preceded by two sighters. 20 rounds (+2)  in 22 minutes. Single load. SR-1 target. \nStage 2) Sitting rapid fire\, preceded by two sighters\, 20 rounds in two strings\, each 70-second\, 10-round string with a reload. SR-1 target \nStage 3) Prone rapid fire\, preceded by two sighters\, 20 rounds in two strings\, each 60-second\, 10-round string with a reload. MR-21 target \nStage 4) Prone slow fire\, preceded by two sighters. 20 rounds (+2)  in 22 minutes. Single load. MR-31 target. \nMost competitors shoot modern service rifles\, but we welcome any rifle that can single load. If you arrive with an M1 Garand we will even have your special match calls. \nAfterward we often gather after the match for some good eats and socializing. Please watch the events calendar.
URL:https://sandiagunclub.com/event/nra-sanctioned-high-power-rifle-match-14/
LOCATION:Albuquerque Shooting Range Park\, 16001 Shooting Range Access NW\, Albuquerque\, NM\, 87120\, United States
CATEGORIES:High Power Rifle
END:VEVENT
BEGIN:VEVENT
DTSTART;TZID=America/Denver:20250914T080000
DTEND;TZID=America/Denver:20250914T120000
DTSTAMP:20260423T174422
CREATED:20250113T164124Z
LAST-MODIFIED:20250113T164124Z
UID:558-1757836800-1757851200@sandiagunclub.com
SUMMARY:NRA Sanctioned High Power Rifle Match
DESCRIPTION:We hold an NRA high power rifle match on the second Sunday of each month throughout the year at Albuquerque’s Shooting Range Park. We gather at 8:00 am year around. At present we shoot all stages on the 100 yard range on reduced targets. \nWe shoot the NRA 80-round course in four stages at 100 yards\, “from position.” \nStage 1) Standing slow fire\, preceded by two sighters. 20 rounds (+2)  in 22 minutes. Single load. SR-1 target. \nStage 2) Sitting rapid fire\, preceded by two sighters\, 20 rounds in two strings\, each 70-second\, 10-round string with a reload. SR-1 target \nStage 3) Prone rapid fire\, preceded by two sighters\, 20 rounds in two strings\, each 60-second\, 10-round string with a reload. MR-21 target \nStage 4) Prone slow fire\, preceded by two sighters. 20 rounds (+2)  in 22 minutes. Single load. MR-31 target. \nMost competitors shoot modern service rifles\, but we welcome any rifle that can single load. If you arrive with an M1 Garand we will even have your special match calls. \nAfterward we often gather after the match for some good eats and socializing. Please watch the events calendar.
URL:https://sandiagunclub.com/event/nra-sanctioned-high-power-rifle-match-13/
LOCATION:Albuquerque Shooting Range Park\, 16001 Shooting Range Access NW\, Albuquerque\, NM\, 87120\, United States
CATEGORIES:High Power Rifle
END:VEVENT
BEGIN:VEVENT
DTSTART;TZID=America/Denver:20250810T080000
DTEND;TZID=America/Denver:20250810T120000
DTSTAMP:20260423T174422
CREATED:20250113T164011Z
LAST-MODIFIED:20250113T164011Z
UID:556-1754812800-1754827200@sandiagunclub.com
SUMMARY:NRA Sanctioned High Power Rifle Match
DESCRIPTION:We hold an NRA high power rifle match on the second Sunday of each month throughout the year at Albuquerque’s Shooting Range Park. We gather at 8:00 am year around. At present we shoot all stages on the 100 yard range on reduced targets. \nWe shoot the NRA 80-round course in four stages at 100 yards\, “from position.” \nStage 1) Standing slow fire\, preceded by two sighters. 20 rounds (+2)  in 22 minutes. Single load. SR-1 target. \nStage 2) Sitting rapid fire\, preceded by two sighters\, 20 rounds in two strings\, each 70-second\, 10-round string with a reload. SR-1 target \nStage 3) Prone rapid fire\, preceded by two sighters\, 20 rounds in two strings\, each 60-second\, 10-round string with a reload. MR-21 target \nStage 4) Prone slow fire\, preceded by two sighters. 20 rounds (+2)  in 22 minutes. Single load. MR-31 target. \nMost competitors shoot modern service rifles\, but we welcome any rifle that can single load. If you arrive with an M1 Garand we will even have your special match calls. \nAfterward we often gather after the match for some good eats and socializing. Please watch the events calendar.
URL:https://sandiagunclub.com/event/nra-sanctioned-high-power-rifle-match-12/
LOCATION:Albuquerque Shooting Range Park\, 16001 Shooting Range Access NW\, Albuquerque\, NM\, 87120\, United States
CATEGORIES:High Power Rifle
END:VEVENT
BEGIN:VEVENT
DTSTART;TZID=America/Denver:20250713T080000
DTEND;TZID=America/Denver:20250713T120000
DTSTAMP:20260423T174422
CREATED:20250113T163900Z
LAST-MODIFIED:20250113T163900Z
UID:554-1752393600-1752408000@sandiagunclub.com
SUMMARY:NRA Sanctioned High Power Rifle Match
DESCRIPTION:We hold an NRA high power rifle match on the second Sunday of each month throughout the year at Albuquerque’s Shooting Range Park. We gather at 8:00 am year around. At present we shoot all stages on the 100 yard range on reduced targets. \nWe shoot the NRA 80-round course in four stages at 100 yards\, “from position.” \nStage 1) Standing slow fire\, preceded by two sighters. 20 rounds (+2)  in 22 minutes. Single load. SR-1 target. \nStage 2) Sitting rapid fire\, preceded by two sighters\, 20 rounds in two strings\, each 70-second\, 10-round string with a reload. SR-1 target \nStage 3) Prone rapid fire\, preceded by two sighters\, 20 rounds in two strings\, each 60-second\, 10-round string with a reload. MR-21 target \nStage 4) Prone slow fire\, preceded by two sighters. 20 rounds (+2)  in 22 minutes. Single load. MR-31 target. \nMost competitors shoot modern service rifles\, but we welcome any rifle that can single load. If you arrive with an M1 Garand we will even have your special match calls. \nAfterward we often gather after the match for some good eats and socializing. Please watch the events calendar.
URL:https://sandiagunclub.com/event/nra-sanctioned-high-power-rifle-match-11/
LOCATION:Albuquerque Shooting Range Park\, 16001 Shooting Range Access NW\, Albuquerque\, NM\, 87120\, United States
CATEGORIES:High Power Rifle
END:VEVENT
BEGIN:VEVENT
DTSTART;TZID=America/Denver:20250608T080000
DTEND;TZID=America/Denver:20250608T120000
DTSTAMP:20260423T174422
CREATED:20250113T163755Z
LAST-MODIFIED:20250113T163809Z
UID:551-1749369600-1749384000@sandiagunclub.com
SUMMARY:NRA Sanctioned High Power Rifle Match
DESCRIPTION:We hold an NRA high power rifle match on the second Sunday of each month throughout the year at Albuquerque’s Shooting Range Park. We gather at 8:00 am year around. At present we shoot all stages on the 100 yard range on reduced targets. \nWe shoot the NRA 80-round course in four stages at 100 yards\, “from position.” \nStage 1) Standing slow fire\, preceded by two sighters. 20 rounds (+2)  in 22 minutes. Single load. SR-1 target. \nStage 2) Sitting rapid fire\, preceded by two sighters\, 20 rounds in two strings\, each 70-second\, 10-round string with a reload. SR-1 target \nStage 3) Prone rapid fire\, preceded by two sighters\, 20 rounds in two strings\, each 60-second\, 10-round string with a reload. MR-21 target \nStage 4) Prone slow fire\, preceded by two sighters. 20 rounds (+2)  in 22 minutes. Single load. MR-31 target. \nMost competitors shoot modern service rifles\, but we welcome any rifle that can single load. If you arrive with an M1 Garand we will even have your special match calls. \nAfterward we often gather after the match for some good eats and socializing. Please watch the events calendar.
URL:https://sandiagunclub.com/event/nra-sanctioned-high-power-rifle-match-10/
LOCATION:Albuquerque Shooting Range Park\, 16001 Shooting Range Access NW\, Albuquerque\, NM\, 87120\, United States
CATEGORIES:High Power Rifle
END:VEVENT
BEGIN:VEVENT
DTSTART;TZID=America/Denver:20250511T080000
DTEND;TZID=America/Denver:20250511T120000
DTSTAMP:20260423T174422
CREATED:20250118T171555Z
LAST-MODIFIED:20250118T171555Z
UID:732-1746950400-1746964800@sandiagunclub.com
SUMMARY:NRA Sanctioned High Power Rifle Match
DESCRIPTION:We hold an NRA high power rifle match on the second Sunday of each month throughout the year at Albuquerque’s Shooting Range Park. We gather at 8:00 am year around. At present we shoot all stages on the 100 yard range on reduced targets. \nWe shoot the NRA 80-round course in four stages at 100 yards\, “from position.” \nStage 1) Standing slow fire\, preceded by two sighters. 20 rounds (+2)  in 22 minutes. Single load. SR-1 target. \nStage 2) Sitting rapid fire\, preceded by two sighters\, 20 rounds in two strings\, each 70-second\, 10-round string with a reload. SR-1 target \nStage 3) Prone rapid fire\, preceded by two sighters\, 20 rounds in two strings\, each 60-second\, 10-round string with a reload. MR-21 target \nStage 4) Prone slow fire\, preceded by two sighters. 20 rounds (+2)  in 22 minutes. Single load. MR-31 target. \nMost competitors shoot modern service rifles\, but we welcome any rifle that can single load. If you arrive with an M1 Garand we will even have your special match calls. \nAfterward we often gather after the match for some good eats and socializing. Please watch the events calendar.
URL:https://sandiagunclub.com/event/nra-sanctioned-high-power-rifle-match-17/
LOCATION:Albuquerque Shooting Range Park\, 16001 Shooting Range Access NW\, Albuquerque\, NM\, 87120\, United States
CATEGORIES:High Power Rifle
END:VEVENT
BEGIN:VEVENT
DTSTART;TZID=America/Denver:20250413T080000
DTEND;TZID=America/Denver:20250413T120000
DTSTAMP:20260423T174422
CREATED:20250113T162946Z
LAST-MODIFIED:20250113T162946Z
UID:549-1744531200-1744545600@sandiagunclub.com
SUMMARY:NRA Sanctioned High Power Rifle Match
DESCRIPTION:We hold an NRA high power rifle match on the second Sunday of each month throughout the year at Albuquerque’s Shooting Range Park. We gather at 8:00 am year around. At present we shoot all stages on the 100 yard range on reduced targets. \nWe shoot the NRA 80-round course in four stages at 100 yards\, “from position.” \nStage 1) Standing slow fire\, preceded by two sighters. 20 rounds (+2)  in 22 minutes. Single load. SR-1 target. \nStage 2) Sitting rapid fire\, preceded by two sighters\, 20 rounds in two strings\, each 70-second\, 10-round string with a reload. SR-1 target \nStage 3) Prone rapid fire\, preceded by two sighters\, 20 rounds in two strings\, each 60-second\, 10-round string with a reload. MR-21 target \nStage 4) Prone slow fire\, preceded by two sighters. 20 rounds (+2)  in 22 minutes. Single load. MR-31 target. \nMost competitors shoot modern service rifles\, but we welcome any rifle that can single load. If you arrive with an M1 Garand we will even have your special match calls. \nAfterward we often gather after the match for some good eats and socializing. Please watch the events calendar.
URL:https://sandiagunclub.com/event/nra-sanctioned-high-power-rifle-match-9/
LOCATION:Albuquerque Shooting Range Park\, 16001 Shooting Range Access NW\, Albuquerque\, NM\, 87120\, United States
CATEGORIES:High Power Rifle
END:VEVENT
BEGIN:VEVENT
DTSTART;TZID=America/Denver:20250309T080000
DTEND;TZID=America/Denver:20250309T120000
DTSTAMP:20260423T174422
CREATED:20250113T162832Z
LAST-MODIFIED:20250113T163038Z
UID:547-1741507200-1741521600@sandiagunclub.com
SUMMARY:NRA Sanctioned High Power Rifle Match
DESCRIPTION:We hold an NRA high power rifle match on the second Sunday of each month throughout the year at Albuquerque’s Shooting Range Park. We gather at 8:00 am year around. At present we shoot all stages on the 100 yard range on reduced targets. \nWe shoot the NRA 80-round course in four stages at 100 yards\, “from position.” \nStage 1) Standing slow fire\, preceded by two sighters. 20 rounds (+2)  in 22 minutes. Single load. SR-1 target. \nStage 2) Sitting rapid fire\, preceded by two sighters\, 20 rounds in two strings\, each 70-second\, 10-round string with a reload. SR-1 target \nStage 3) Prone rapid fire\, preceded by two sighters\, 20 rounds in two strings\, each 60-second\, 10-round string with a reload. MR-21 target \nStage 4) Prone slow fire\, preceded by two sighters. 20 rounds (+2)  in 22 minutes. Single load. MR-31 target. \nMost competitors shoot modern service rifles\, but we welcome any rifle that can single load. If you arrive with an M1 Garand we will even have your special match calls. \nAfterward we often gather after the match for some good eats and socializing. Please watch the events calendar.
URL:https://sandiagunclub.com/event/nra-sanctioned-high-power-rifle-match-8/
LOCATION:Albuquerque Shooting Range Park\, 16001 Shooting Range Access NW\, Albuquerque\, NM\, 87120\, United States
CATEGORIES:High Power Rifle
END:VEVENT
BEGIN:VEVENT
DTSTART;TZID=America/Denver:20250209T080000
DTEND;TZID=America/Denver:20250209T120000
DTSTAMP:20260423T174422
CREATED:20250113T162355Z
LAST-MODIFIED:20250113T164522Z
UID:543-1739088000-1739102400@sandiagunclub.com
SUMMARY:NRA Sanctioned High Power Rifle Match
DESCRIPTION:We hold an NRA high power rifle match on the second Sunday of each month throughout the year at Albuquerque’s Shooting Range Park. We gather at 8:00 am year around. At present we shoot all stages on the 100 yard range on reduced targets. \nWe shoot the NRA 80-round course in four stages at 100 yards\, “from position.” \nStage 1) Standing slow fire\, preceded by two sighters. 20 rounds (+2)  in 22 minutes. Single load. SR-1 target. \nStage 2) Sitting rapid fire\, preceded by two sighters\, 20 rounds in two strings\, each 70-second\, 10-round string with a reload. SR-1 target \nStage 3) Prone rapid fire\, preceded by two sighters\, 20 rounds in two strings\, each 60-second\, 10-round string with a reload. MR-21 target \nStage 4) Prone slow fire\, preceded by two sighters. 20 rounds (+2)  in 22 minutes. Single load. MR-31 target. \nMost competitors shoot modern service rifles\, but we welcome any rifle that can single load. If you arrive with an M1 Garand we will even have your special match calls. \nAfterward we often gather for some good eats and socializing. Please watch the events calendar.
URL:https://sandiagunclub.com/event/nra-sanctioned-high-power-rifle-match-7/
LOCATION:Albuquerque Shooting Range Park\, 16001 Shooting Range Access NW\, Albuquerque\, NM\, 87120\, United States
CATEGORIES:High Power Rifle
END:VEVENT
BEGIN:VEVENT
DTSTART;TZID=America/Denver:20250112T080000
DTEND;TZID=America/Denver:20250112T120000
DTSTAMP:20260423T174422
CREATED:20250113T162239Z
LAST-MODIFIED:20250113T164450Z
UID:540-1736668800-1736683200@sandiagunclub.com
SUMMARY:NRA Sanctioned High Power Rifle Match
DESCRIPTION:We hold an NRA high power rifle match on the second Sunday of each month throughout the year at Albuquerque’s Shooting Range Park. We gather at 8:00 am year around. At present we shoot all stages on the 100 yard range on reduced targets. \nWe shoot the NRA 80-round course in four stages at 100 yards\, “from position.” \nStage 1) Standing slow fire\, preceded by two sighters. 20 rounds (+2)  in 22 minutes. Single load. SR-1 target. \nStage 2) Sitting rapid fire\, preceded by two sighters\, 20 rounds in two strings\, each 70-second\, 10-round string with a reload. SR-1 target \nStage 3) Prone rapid fire\, preceded by two sighters\, 20 rounds in two strings\, each 60-second\, 10-round string with a reload. MR-21 target \nStage 4) Prone slow fire\, preceded by two sighters. 20 rounds (+2)  in 22 minutes. Single load. MR-31 target. \nMost competitors shoot modern service rifles\, but we welcome any rifle that can single load. If you arrive with an M1 Garand we will even have your special match calls. \nAfterward we often gather for some good eats and socializing. Please watch the events calendar.
URL:https://sandiagunclub.com/event/nra-sanctioned-high-power-rifle-match-6/
LOCATION:Albuquerque Shooting Range Park\, 16001 Shooting Range Access NW\, Albuquerque\, NM\, 87120\, United States
CATEGORIES:High Power Rifle
END:VEVENT
END:VCALENDAR