BEGIN:VCALENDAR
VERSION:2.0
PRODID:-//Sandia Gun Club - ECPv6.15.20//NONSGML v1.0//EN
CALSCALE:GREGORIAN
METHOD:PUBLISH
X-ORIGINAL-URL:https://sandiagunclub.com
X-WR-CALDESC:Events for Sandia Gun Club
REFRESH-INTERVAL;VALUE=DURATION:PT1H
X-Robots-Tag:noindex
X-PUBLISHED-TTL:PT1H
BEGIN:VTIMEZONE
TZID:America/Denver
BEGIN:DAYLIGHT
TZOFFSETFROM:-0700
TZOFFSETTO:-0600
TZNAME:MDT
DTSTART:20230312T090000
END:DAYLIGHT
BEGIN:STANDARD
TZOFFSETFROM:-0600
TZOFFSETTO:-0700
TZNAME:MST
DTSTART:20231105T080000
END:STANDARD
BEGIN:DAYLIGHT
TZOFFSETFROM:-0700
TZOFFSETTO:-0600
TZNAME:MDT
DTSTART:20240310T090000
END:DAYLIGHT
BEGIN:STANDARD
TZOFFSETFROM:-0600
TZOFFSETTO:-0700
TZNAME:MST
DTSTART:20241103T080000
END:STANDARD
BEGIN:DAYLIGHT
TZOFFSETFROM:-0700
TZOFFSETTO:-0600
TZNAME:MDT
DTSTART:20250309T090000
END:DAYLIGHT
BEGIN:STANDARD
TZOFFSETFROM:-0600
TZOFFSETTO:-0700
TZNAME:MST
DTSTART:20251102T080000
END:STANDARD
BEGIN:DAYLIGHT
TZOFFSETFROM:-0700
TZOFFSETTO:-0600
TZNAME:MDT
DTSTART:20260308T090000
END:DAYLIGHT
BEGIN:STANDARD
TZOFFSETFROM:-0600
TZOFFSETTO:-0700
TZNAME:MST
DTSTART:20261101T080000
END:STANDARD
END:VTIMEZONE
BEGIN:VEVENT
DTSTART;TZID=America/Denver:20251203T173000
DTEND;TZID=America/Denver:20251203T200000
DTSTAMP:20260423T180416
CREATED:20250113T190428Z
LAST-MODIFIED:20250113T190428Z
UID:660-1764783000-1764792000@sandiagunclub.com
SUMMARY:Sandia Gun Club Monthly Meeting and Christmas Party
DESCRIPTION:If you would like attend and join us please contact us at sandiagunclubabq@gmail.com for directions to the venue.
URL:https://sandiagunclub.com/event/sandia-gun-club-monthly-meeting-and-christmas-party/
CATEGORIES:Club Business and Social Meeting
END:VEVENT
BEGIN:VEVENT
DTSTART;TZID=America/Denver:20251105T173000
DTEND;TZID=America/Denver:20251105T193000
DTSTAMP:20260423T180416
CREATED:20250113T190259Z
LAST-MODIFIED:20250113T190259Z
UID:657-1762363800-1762371000@sandiagunclub.com
SUMMARY:Sandia Gun Club Monthly Meeting
DESCRIPTION:If you would like attend and join us please contact us at sandiagunclubabq@gmail.com for directions to the venue.
URL:https://sandiagunclub.com/event/sandia-gun-club-monthly-meeting-13/
CATEGORIES:Club Business and Social Meeting
END:VEVENT
BEGIN:VEVENT
DTSTART;TZID=America/Denver:20251001T173000
DTEND;TZID=America/Denver:20251001T193000
DTSTAMP:20260423T180416
CREATED:20250113T190126Z
LAST-MODIFIED:20250113T190126Z
UID:655-1759339800-1759347000@sandiagunclub.com
SUMMARY:Sandia Gun Club Monthly Meeting
DESCRIPTION:If you would like attend and join us please contact us at sandiagunclubabq@gmail.com for directions to the venue.
URL:https://sandiagunclub.com/event/sandia-gun-club-monthly-meeting-12/
CATEGORIES:Club Business and Social Meeting
END:VEVENT
BEGIN:VEVENT
DTSTART;TZID=America/Denver:20250910T173000
DTEND;TZID=America/Denver:20250910T193000
DTSTAMP:20260423T180416
CREATED:20250113T190030Z
LAST-MODIFIED:20250113T190030Z
UID:653-1757525400-1757532600@sandiagunclub.com
SUMMARY:Sandia Gun Club Monthly Meeting
DESCRIPTION:If you would like attend and join us please contact us at sandiagunclubabq@gmail.com for directions to the venue.
URL:https://sandiagunclub.com/event/sandia-gun-club-monthly-meeting-11/
CATEGORIES:Club Business and Social Meeting
END:VEVENT
BEGIN:VEVENT
DTSTART;TZID=America/Denver:20250806T173000
DTEND;TZID=America/Denver:20250806T193000
DTSTAMP:20260423T180416
CREATED:20250113T185701Z
LAST-MODIFIED:20250113T185701Z
UID:651-1754501400-1754508600@sandiagunclub.com
SUMMARY:Sandia Gun Club Monthly Meeting
DESCRIPTION:If you would like attend and join us please contact us at sandiagunclubabq@gmail.com for directions to the venue.
URL:https://sandiagunclub.com/event/sandia-gun-club-monthly-meeting-10/
CATEGORIES:Club Business and Social Meeting
END:VEVENT
BEGIN:VEVENT
DTSTART;TZID=America/Denver:20250702T173000
DTEND;TZID=America/Denver:20250702T193000
DTSTAMP:20260423T180416
CREATED:20250118T171814Z
LAST-MODIFIED:20250118T171814Z
UID:734-1751477400-1751484600@sandiagunclub.com
SUMMARY:Sandia Gun Club Monthly Meeting
DESCRIPTION:If you would like attend and join us please contact us at sandiagunclubabq@gmail.com for directions to the venue.
URL:https://sandiagunclub.com/event/sandia-gun-club-monthly-meeting-14/
CATEGORIES:Club Business and Social Meeting
END:VEVENT
BEGIN:VEVENT
DTSTART;TZID=America/Denver:20250604T173000
DTEND;TZID=America/Denver:20250604T193000
DTSTAMP:20260423T180416
CREATED:20250113T185522Z
LAST-MODIFIED:20250113T185522Z
UID:649-1749058200-1749065400@sandiagunclub.com
SUMMARY:Sandia Gun Club Monthly Meeting
DESCRIPTION:If you would like attend and join us please contact us at sandiagunclubabq@gmail.com for directions to the venue.
URL:https://sandiagunclub.com/event/sandia-gun-club-monthly-meeting-9/
CATEGORIES:Club Business and Social Meeting
END:VEVENT
BEGIN:VEVENT
DTSTART;TZID=America/Denver:20250507T173000
DTEND;TZID=America/Denver:20250507T193000
DTSTAMP:20260423T180416
CREATED:20250113T185310Z
LAST-MODIFIED:20250113T185310Z
UID:647-1746639000-1746646200@sandiagunclub.com
SUMMARY:Sandia Gun Club Monthly Meeting
DESCRIPTION:If you would like attend and join us please contact us at sandiagunclubabq@gmail.com for directions to the venue.
URL:https://sandiagunclub.com/event/sandia-gun-club-monthly-meeting-8/
CATEGORIES:Club Business and Social Meeting
END:VEVENT
BEGIN:VEVENT
DTSTART;TZID=America/Denver:20250402T173000
DTEND;TZID=America/Denver:20250402T193000
DTSTAMP:20260423T180416
CREATED:20250113T185206Z
LAST-MODIFIED:20250113T185206Z
UID:645-1743615000-1743622200@sandiagunclub.com
SUMMARY:Sandia Gun Club Monthly Meeting
DESCRIPTION:If you would like attend and join us please contact us at sandiagunclubabq@gmail.com for directions to the venue.
URL:https://sandiagunclub.com/event/sandia-gun-club-monthly-meeting-7/
CATEGORIES:Club Business and Social Meeting
END:VEVENT
BEGIN:VEVENT
DTSTART;TZID=America/Denver:20250305T173000
DTEND;TZID=America/Denver:20250305T193000
DTSTAMP:20260423T180416
CREATED:20250113T185031Z
LAST-MODIFIED:20250113T185031Z
UID:643-1741195800-1741203000@sandiagunclub.com
SUMMARY:Sandia Gun Club Monthly Meeting
DESCRIPTION:If you would like attend and join us please contact us at sandiagunclubabq@gmail.com for directions to the venue.
URL:https://sandiagunclub.com/event/sandia-gun-club-monthly-meeting-6/
CATEGORIES:Club Business and Social Meeting
END:VEVENT
BEGIN:VEVENT
DTSTART;TZID=America/Denver:20250205T173000
DTEND;TZID=America/Denver:20250205T193000
DTSTAMP:20260423T180416
CREATED:20250113T184940Z
LAST-MODIFIED:20250113T184940Z
UID:641-1738776600-1738783800@sandiagunclub.com
SUMMARY:Sandia Gun Club Monthly Meeting
DESCRIPTION:If you would like attend and join us please contact us at sandiagunclubabq@gmail.com for directions to the venue.
URL:https://sandiagunclub.com/event/sandia-gun-club-monthly-meeting-5/
CATEGORIES:Club Business and Social Meeting
END:VEVENT
BEGIN:VEVENT
DTSTART;TZID=America/Denver:20241106T173000
DTEND;TZID=America/Denver:20241106T193000
DTSTAMP:20260423T180416
CREATED:20240807T184358Z
LAST-MODIFIED:20250113T184705Z
UID:404-1730914200-1730921400@sandiagunclub.com
SUMMARY:Sandia Gun Club Monthly Meeting
DESCRIPTION:If you would like attend and join us please contact us at sandiagunclubabq@gmail.com for directions to the venue.
URL:https://sandiagunclub.com/event/sandia-gun-club-monthly-meeting-3/
CATEGORIES:Club Business and Social Meeting
END:VEVENT
END:VCALENDAR