BEGIN:VCALENDAR
VERSION:2.0
PRODID:-//Sandia Gun Club - ECPv6.15.20//NONSGML v1.0//EN
CALSCALE:GREGORIAN
METHOD:PUBLISH
X-WR-CALNAME:Sandia Gun Club
X-ORIGINAL-URL:https://sandiagunclub.com
X-WR-CALDESC:Events for Sandia Gun Club
REFRESH-INTERVAL;VALUE=DURATION:PT1H
X-Robots-Tag:noindex
X-PUBLISHED-TTL:PT1H
BEGIN:VTIMEZONE
TZID:America/Denver
BEGIN:DAYLIGHT
TZOFFSETFROM:-0700
TZOFFSETTO:-0600
TZNAME:MDT
DTSTART:20230312T090000
END:DAYLIGHT
BEGIN:STANDARD
TZOFFSETFROM:-0600
TZOFFSETTO:-0700
TZNAME:MST
DTSTART:20231105T080000
END:STANDARD
BEGIN:DAYLIGHT
TZOFFSETFROM:-0700
TZOFFSETTO:-0600
TZNAME:MDT
DTSTART:20240310T090000
END:DAYLIGHT
BEGIN:STANDARD
TZOFFSETFROM:-0600
TZOFFSETTO:-0700
TZNAME:MST
DTSTART:20241103T080000
END:STANDARD
BEGIN:DAYLIGHT
TZOFFSETFROM:-0700
TZOFFSETTO:-0600
TZNAME:MDT
DTSTART:20250309T090000
END:DAYLIGHT
BEGIN:STANDARD
TZOFFSETFROM:-0600
TZOFFSETTO:-0700
TZNAME:MST
DTSTART:20251102T080000
END:STANDARD
END:VTIMEZONE
BEGIN:VEVENT
DTSTART;TZID=America/Denver:20240908T080000
DTEND;TZID=America/Denver:20240908T113000
DTSTAMP:20260424T112712
CREATED:20240807T175201Z
LAST-MODIFIED:20240807T175201Z
UID:379-1725782400-1725795000@sandiagunclub.com
SUMMARY:NRA Sanctioned High Power Rifle Match
DESCRIPTION:We hold an NRA high power rifle match on the second Sunday of each month throughout the year at Albuquerque’s Shooting Range Park. We gather at 8:00 am year around. At present we shoot all stages on the 100 yard range on reduced targets. \nWe shoot the NRA 80-round course in four stages at 100 yards\, “from position.” \nStage 1) Standing slow fire\, preceded by two sighters. 20 rounds (+2)  in 22 minutes. Single load. SR-1 target. \nStage 2) Sitting rapid fire\, preceded by two sighters\, 20 rounds in two strings\, each 70-second\, 10-round string with a reload. SR-1 target \nStage 3) Prone rapid fire\, preceded by two sighters\, 20 rounds in two strings\, each 60-second\, 10-round string with a reload. MR-21 target \nStage 4) Prone slow fire\, preceded by two sighters. 20 rounds (+2)  in 22 minutes. Single load. MR-31 target. \nMost competitors shoot modern service rifles\, but we welcome any rifle that can single load. If you arrive with an M1 Garand we will even have your special match calls. \nAfterward we often gather at “The Bombing Range Restaurant” at the Double Eagle Airport next door to the Shooting Range for some good eats and socializing. Please watch the events calendar.
URL:https://sandiagunclub.com/event/nra-sanctioned-high-power-rifle-match-2/
LOCATION:Albuquerque Shooting Range Park\, 16001 Shooting Range Access NW\, Albuquerque\, NM\, 87120\, United States
END:VEVENT
BEGIN:VEVENT
DTSTART;TZID=America/Denver:20240908T080000
DTEND;TZID=America/Denver:20240908T150000
DTSTAMP:20260424T112712
CREATED:20240807T183239Z
LAST-MODIFIED:20240807T183239Z
UID:398-1725782400-1725807600@sandiagunclub.com
SUMMARY:New Mexico State Pistol Championships - Day Two
DESCRIPTION:The New Mexico State Pistol Championship is an NRA Sanctioned “2700.” We will shoot one “900” each of 22lr\, centerfire and 45. We can accommodate 40 shooters on the line and each shooter can spread the three 900s over the two days. Please arrive about 7:00am. The first relay will start shooting at 8:00am. \nNRA’s Whittington center is one of the most beautiful and extensive shooting parks in the country. It is at the eastern base of the Sangre de Cristo Mountains\, so is subject to wind\, rain and heat. Come prepared\, but you won’t regret it.
URL:https://sandiagunclub.com/event/new-mexico-state-pistol-championships-day-two/
LOCATION:NRA Whittington Center\, John Schooley Range\, 34025 US-64\, Raton\, NM 87740\, Raton\, NM\, 87740\, United States
END:VEVENT
END:VCALENDAR